View In:
ArcGIS JavaScript
ArcGIS Online Map Viewer
ArcGIS Earth
Service Description: CaliforniaGroundwater/WildlifeFriendlyGWRecharge_DeerCreekWatershed_tif
Name: CaliforniaGroundwater/WildlifeFriendlyGWRecharge_DeerCreekWatershed_tif
Description:
Single Fused Map Cache: false
Extent:
XMin: 41421.03158752182
YMin: -245074.36003854498
XMax: 83282.05970569189
YMax: -222646.1375507377
Spatial Reference: 102962
(6414)
LatestVCSWkid(0)
Initial Extent:
XMin: 41421.03158752182
YMin: -245074.36003854498
XMax: 83282.05970569189
YMax: -222646.1375507377
Spatial Reference: 102962
(6414)
LatestVCSWkid(0)
Full Extent:
XMin: 41421.03158752182
YMin: -245074.36003854498
XMax: 83282.05970569189
YMax: -222646.1375507377
Spatial Reference: 102962
(6414)
LatestVCSWkid(0)
Pixel Size X: 29.986409826769393
Pixel Size Y: 29.98425466284395
Band Count: 1
Pixel Type: F32
RasterFunction Infos: {"rasterFunctionInfos": [{
"name": "None",
"description": "",
"help": ""
}]}
Mensuration Capabilities: Basic
Inspection Capabilities:
Has Histograms: true
Has Colormap: false
Has Multi Dimensions : false
Rendering Rule:
Min Scale: 0
Max Scale: 0
Copyright Text:
Service Data Type: esriImageServiceDataTypeGeneric
Min Values: 0.13637571036816
Max Values: 0.80050241947174
Mean Values: 0.40986928741029
Standard Deviation Values: 0.11301029930658
Object ID Field:
Fields:
None
Default Mosaic Method: Center
Allowed Mosaic Methods:
SortField:
SortValue: null
Mosaic Operator: First
Default Compression Quality: 75
Default Resampling Method: Bilinear
Max Record Count: null
Max Image Height: 4100
Max Image Width: 15000
Max Download Image Count: null
Max Mosaic Image Count: null
Allow Raster Function: true
Allow Copy: true
Allow Analysis: true
Allow Compute TiePoints: false
Supports Statistics: false
Supports Advanced Queries: false
Use StandardizedQueries: true
Raster Type Infos:
Name: Raster Dataset
Description: Supports all ArcGIS Raster Datasets
Help:
Has Raster Attribute Table: false
Edit Fields Info: null
Ownership Based AccessControl For Rasters: null
Child Resources:
Info
Histograms
Statistics
Key Properties
Legend
Raster Function Infos
Supported Operations:
Export Image
Identify
Measure
Compute Histograms
Compute Statistics Histograms
Get Samples
Compute Class Statistics
Query Boundary
Compute Pixel Location
Compute Angles
Validate
Project