{
 "currentVersion": 11.5,
 "serviceDescription": "CaliforniaGroundwater/WildlifeFriendlyGWRecharge_DeerCreekWatershed_tif",
 "serviceItemId": "68b5410b5f804300ab62798a59fd3869",
 "name": "CaliforniaGroundwater/WildlifeFriendlyGWRecharge_DeerCreekWatershed_tif",
 "description": "",
 "extent": {
  "xmin": 41421.03158752182,
  "ymin": -245074.36003854498,
  "xmax": 83282.05970569189,
  "ymax": -222646.1375507377,
  "spatialReference": {
   "wkid": 102962,
   "latestWkid": 6414
  }
 },
 "initialExtent": {
  "xmin": 41421.03158752182,
  "ymin": -245074.36003854498,
  "xmax": 83282.05970569189,
  "ymax": -222646.1375507377,
  "spatialReference": {
   "wkid": 102962,
   "latestWkid": 6414
  }
 },
 "fullExtent": {
  "xmin": 41421.03158752182,
  "ymin": -245074.36003854498,
  "xmax": 83282.05970569189,
  "ymax": -222646.1375507377,
  "spatialReference": {
   "wkid": 102962,
   "latestWkid": 6414
  }
 },
 "sortableFields": "",
 "bandCount": 1,
 "pixelType": "F32",
 "minValues": [
  0.13637571036816
 ],
 "maxValues": [
  0.80050241947174
 ],
 "meanValues": [
  0.40986928741029
 ],
 "stdvValues": [
  0.11301029930658
 ],
 "serviceProperties": "Center<\/MosaicMethod>First<\/MosaicOperator>true<\/SortAscending><\/LockImageID><\/TileOrderField>0<\/TileOrderBase>0.000000<\/AvgImageSpacingX>0.000000<\/AvgImageSpacingY>0.0<\/ViewPointX>0.0<\/ViewPointY>0.0<\/ViewPointDefShiftX>0.0<\/ViewPointDefShiftY>None<\/CompressionMethod>75<\/CompressionQuality>0.010000<\/CompressionTolerance>Bilinear<\/SamplingMethod><\/ImageServiceProperties><\/ImageServer>",
 "allowedFields": "",
 "hasMultidimensions": false,
 "pixelSizeX": 29.986409826769393,
 "pixelSizeY": 29.98425466284395,
 "meanPixelSize": 29.98533224480667,
 "datasetFormat": "TIFF",
 "uncompressedSize": 4176832,
 "blockWidth": 128,
 "blockHeight": 128,
 "compressionType": "LZW",
 "bandNames": [
  "Band_1"
 ],
 "allowCopy": true,
 "allowAnalysis": true,
 "itemAccess": false,
 "inspectionCapabilities": "",
 "noDataValue": -3.4028230607370965E38,
 "noDataValues": [
  -3.4028230607370965E38
 ],
 "minPixelSize": 0,
 "maxPixelSize": 0,
 "copyrightText": "",
 "serviceDataType": "esriImageServiceDataTypeGeneric",
 "serviceSourceType": "esriImageServiceSourceTypeDataset",
 "objectIdField": "",
 "fields": [],
 "capabilities": "Image,Metadata,Mensuration",
 "defaultMosaicMethod": "Center",
 "allowedMosaicMethods": "",
 "sortField": "",
 "sortValue": null,
 "sortAscending": true,
 "mosaicOperator": "First",
 "defaultCompressionQuality": 75,
 "defaultResamplingMethod": "Bilinear",
 "maxImageHeight": 4100,
 "maxImageWidth": 15000,
 "allowRasterFunction": true,
 "rasterFunctionInfos": [
  {
   "name": "None",
   "description": "",
   "help": ""
  }
 ],
 "rasterTypeInfos": [
  {
   "name": "Raster Dataset",
   "description": "Supports all ArcGIS Raster Datasets",
   "help": ""
  }
 ],
 "mensurationCapabilities": "Basic",
 "hasHistograms": true,
 "hasColormap": false,
 "hasRasterAttributeTable": false,
 "minScale": 0,
 "maxScale": 0,
 "exportTilesAllowed": false,
 "supportsStatistics": false,
 "supportsAdvancedQueries": false,
 "editFieldsInfo": null,
 "ownershipBasedAccessControlForRasters": null,
 "allowComputeTiePoints": false,
 "useStandardizedQueries": true,
 "advancedQueryCapabilities": {
  "useStandardizedQueries": true,
  "supportsStatistics": false,
  "supportsOrderBy": false,
  "supportsDistinct": false,
  "supportsPagination": false
 },
 "spatialReference": {
  "wkid": 102962,
  "latestWkid": 6414
 }
}
