View In:
ArcGIS JavaScript
ArcGIS Online Map Viewer
ArcGIS Earth
Service Description: AlasSeguras2_Sample_MultiBand
Name: AlasSeguras2_Sample_MultiBand
Description:
Single Fused Map Cache: false
Extent:
XMin: -1.2755535246175572E7
YMin: -1.2729497346555881E7
XMax: 1.2756464753824428E7
YMax: 1.2729502653444119E7
Spatial Reference: 0
(0)
LatestVCSWkid(0)
Initial Extent:
XMin: -1.2755535246175572E7
YMin: -1.2729497346555881E7
XMax: 1.2756464753824428E7
YMax: 1.2729502653444119E7
Spatial Reference: 0
(0)
LatestVCSWkid(0)
Full Extent:
XMin: -1.2755535246175572E7
YMin: -1.2729497346555881E7
XMax: 1.2756464753824428E7
YMax: 1.2729502653444119E7
Spatial Reference: 0
(0)
LatestVCSWkid(0)
Pixel Size X: 1000.0
Pixel Size Y: 1000.0
Band Count: 65
Pixel Type: U8
RasterFunction Infos: {"rasterFunctionInfos": [{
"name": "None",
"description": "",
"help": ""
}]}
Mensuration Capabilities: Basic
Inspection Capabilities:
Has Histograms: true
Has Colormap: false
Has Multi Dimensions : false
Rendering Rule:
Min Scale: 0
Max Scale: 0
Copyright Text:
Service Data Type: esriImageServiceDataTypeThematic
Min Values: 0, 0, 0, 0, 0, 0, 0, 0, 0, 0, 0, 0, 0, 0, 0, 0, 0, 0, 0, 0, 0, 0, 0, 0, 0, 0, 0, 0, 0, 0, 0, 0, 0, 0, 0, 0, 0, 0, 0, 0, 0, 0, 0, 0, 0, 0, 0, 0, 0, 0, 0, 0, 0, 0, 0, 0, 0, 0, 0, 0, 0, 0, 0, 0, 0
Max Values: 100, 100, 100, 100, 100, 100, 100, 100, 100, 100, 100, 100, 100, 100, 100, 100, 100, 100, 100, 63, 68, 89, 79, 68, 79, 91, 100, 100, 100, 100, 100, 100, 100, 100, 100, 100, 100, 100, 100, 100, 100, 100, 100, 100, 100, 100, 100, 100, 100, 100, 100, 100, 100, 100, 100, 100, 100, 100, 100, 100, 100, 100, 100, 100, 100
Mean Values: 0.1851126210822, 0.048586934167764, 0.10570383697613, 0.79363149705309, 2.2173755327262, 0.96090005128913, 0.063675231313757, 1.2108598640716, 4.2341133564181, 2.23124213969, 2.4830750567896, 0.23699634817636, 1.7094937511725, 1.6703385423431, 0.066225307493645, 4.4112799875441, 3.1275542716502, 8.638940787499, 6.103563688275, 5.7746300346461E-4, 0.0042745807852125, 0.0037155008703115, 0.015699899731183, 0.0077056318430123, 0.015784816051672, 0.0039927637265907, 0.011776746941211, 0.010263412292178, 0.026995363865125, 0.012136687507362, 0.08414382276924, 0.01676036683949, 0.01308139966336, 0.10064764544783, 0.066030699252905, 0.056604100856287, 0.045738171289271, 0.020432842968603, 0.014784991580915, 0.16707098222265, 0.12300303154066, 0.0088437528740896, 0.0043107880794964, 6.6503825141983E-4, 5.1038474529557E-4, 0.2704930237195, 0.21912518398023, 0.11945647340972, 0.085762804751117, 0.17345369218699, 0.14019937934505, 0.097645727115571, 0.078941508781186, 0.089675623597165, 0.072494956844452, 0.0088487320121478, 0.0071447705852749, 6.6392202535547E-4, 5.2285568477337E-4, 0.15550100961647, 0.062872780245135, 0.034341966598304, 0.013942048449544, 0.089739216150769, 0.072532985511749
Standard Deviation Values: 4.2984875775304, 2.2037088587383, 3.2494938702388, 8.8731786228732, 14.724836140117, 9.7553409149484, 2.5225916447357, 10.937083934071, 20.136623856821, 14.76975872582, 15.560907567173, 4.8624548928488, 12.962523152946, 12.815764653003, 2.572575551505, 20.534571051646, 17.406143510536, 28.093821065052, 23.939567247823, 0.052607128394032, 0.17961827745047, 0.23369885155479, 0.66540547939433, 0.25374560335824, 0.6731826501881, 0.22053780823195, 0.56594224422904, 0.74356499363595, 0.89401760115342, 0.88038703213669, 2.2475022267293, 1.0542346430288, 1.1436646559777, 2.5817807853909, 2.5687954146265, 1.9369887539457, 2.1381592914591, 1.1639531704919, 1.2158456170055, 3.3248063139082, 3.5050211735755, 0.76575143820285, 0.65655176926076, 0.21031588507915, 0.22591638744356, 4.2271219816628, 4.67594937798, 2.8124765549268, 2.9272726606221, 3.3877794560422, 3.7416950824582, 2.5431985594455, 2.8085439516686, 2.4372527370871, 2.6915126187389, 0.76618158722266, 0.84523725182975, 0.21008513261856, 0.22865978041573, 3.2077409085168, 2.5066561486753, 1.5088516531725, 1.1806822038067, 2.4379859047834, 2.6922179570657
Object ID Field:
Fields:
None
Default Mosaic Method: Center
Allowed Mosaic Methods:
SortField:
SortValue: null
Mosaic Operator: First
Default Compression Quality: 75
Default Resampling Method: Bilinear
Max Record Count: null
Max Image Height: 4100
Max Image Width: 15000
Max Download Image Count: null
Max Mosaic Image Count: null
Allow Raster Function: true
Allow Copy: true
Allow Analysis: true
Allow Compute TiePoints: false
Supports Statistics: false
Supports Advanced Queries: false
Use StandardizedQueries: true
Raster Type Infos:
Name: Raster Dataset
Description: Supports all ArcGIS Raster Datasets
Help:
Has Raster Attribute Table: false
Edit Fields Info: null
Ownership Based AccessControl For Rasters: null
Child Resources:
Info
Histograms
Statistics
Key Properties
Legend
Raster Function Infos
Supported Operations:
Export Image
Identify
Measure
Compute Histograms
Compute Statistics Histograms
Get Samples
Compute Class Statistics
Query Boundary
Compute Pixel Location
Compute Angles
Validate
Project