{
 "currentVersion": 11.3,
 "serviceDescription": "AlasSeguras2_Sample_MultiBand",
 "name": "AlasSeguras2_Sample_MultiBand",
 "description": "",
 "extent": {
  "xmin": -1.2755535246175572E7,
  "ymin": -1.2729497346555881E7,
  "xmax": 1.2756464753824428E7,
  "ymax": 1.2729502653444119E7,
  "spatialReference": {
   "wkt2": "PROJCRS[\"Lambert_Azimuthal_Equal_Area\",BASEGEOGCRS[\"GCS_WGS_1984\",DATUM[\"D_WGS_1984\",ELLIPSOID[\"WGS84\",6378137.0,298.257223563,LENGTHUNIT[\"Meter\",1.0]]],PRIMEM[\"Greenwich\",0.0,ANGLEUNIT[\"Degree\",0.0174532925199433]],CS[ellipsoidal,2],ANGLEUNIT[\"Degree\",0.0174532925199433]],CONVERSION[\"Lambert_Azimuthal_Equal_Area\",METHOD[\"Lambert_Azimuthal_Equal_Area\"],PARAMETER[\"False_Easting\",0.0,LENGTHUNIT[\"Meter\",1.0]],PARAMETER[\"False_Northing\",0.0,LENGTHUNIT[\"Meter\",1.0]],PARAMETER[\"Central_Meridian\",-90.0,ANGLEUNIT[\"Degree\",0.0174532925199433]],PARAMETER[\"Latitude_Of_Origin\",15.0,ANGLEUNIT[\"Degree\",0.0174532925199433]]],CS[Cartesian,2],AXIS[\"Easting (X)\",east,ORDER[1]],AXIS[\"Northing (Y)\",north,ORDER[2]],LENGTHUNIT[\"Meter\",1.0]]",
   "wkt": "PROJCS[\"Lambert_Azimuthal_Equal_Area\",GEOGCS[\"GCS_WGS_1984\",DATUM[\"D_WGS_1984\",SPHEROID[\"WGS84\",6378137.0,298.257223563]],PRIMEM[\"Greenwich\",0.0],UNIT[\"Degree\",0.0174532925199433]],PROJECTION[\"Lambert_Azimuthal_Equal_Area\"],PARAMETER[\"False_Easting\",0.0],PARAMETER[\"False_Northing\",0.0],PARAMETER[\"Central_Meridian\",-90.0],PARAMETER[\"Latitude_Of_Origin\",15.0],UNIT[\"Meter\",1.0]]"
  }
 },
 "initialExtent": {
  "xmin": -1.2755535246175572E7,
  "ymin": -1.2729497346555881E7,
  "xmax": 1.2756464753824428E7,
  "ymax": 1.2729502653444119E7,
  "spatialReference": {
   "wkt2": "PROJCRS[\"Lambert_Azimuthal_Equal_Area\",BASEGEOGCRS[\"GCS_WGS_1984\",DATUM[\"D_WGS_1984\",ELLIPSOID[\"WGS84\",6378137.0,298.257223563,LENGTHUNIT[\"Meter\",1.0]]],PRIMEM[\"Greenwich\",0.0,ANGLEUNIT[\"Degree\",0.0174532925199433]],CS[ellipsoidal,2],ANGLEUNIT[\"Degree\",0.0174532925199433]],CONVERSION[\"Lambert_Azimuthal_Equal_Area\",METHOD[\"Lambert_Azimuthal_Equal_Area\"],PARAMETER[\"False_Easting\",0.0,LENGTHUNIT[\"Meter\",1.0]],PARAMETER[\"False_Northing\",0.0,LENGTHUNIT[\"Meter\",1.0]],PARAMETER[\"Central_Meridian\",-90.0,ANGLEUNIT[\"Degree\",0.0174532925199433]],PARAMETER[\"Latitude_Of_Origin\",15.0,ANGLEUNIT[\"Degree\",0.0174532925199433]]],CS[Cartesian,2],AXIS[\"Easting (X)\",east,ORDER[1]],AXIS[\"Northing (Y)\",north,ORDER[2]],LENGTHUNIT[\"Meter\",1.0]]",
   "wkt": "PROJCS[\"Lambert_Azimuthal_Equal_Area\",GEOGCS[\"GCS_WGS_1984\",DATUM[\"D_WGS_1984\",SPHEROID[\"WGS84\",6378137.0,298.257223563]],PRIMEM[\"Greenwich\",0.0],UNIT[\"Degree\",0.0174532925199433]],PROJECTION[\"Lambert_Azimuthal_Equal_Area\"],PARAMETER[\"False_Easting\",0.0],PARAMETER[\"False_Northing\",0.0],PARAMETER[\"Central_Meridian\",-90.0],PARAMETER[\"Latitude_Of_Origin\",15.0],UNIT[\"Meter\",1.0]]"
  }
 },
 "fullExtent": {
  "xmin": -1.2755535246175572E7,
  "ymin": -1.2729497346555881E7,
  "xmax": 1.2756464753824428E7,
  "ymax": 1.2729502653444119E7,
  "spatialReference": {
   "wkt2": "PROJCRS[\"Lambert_Azimuthal_Equal_Area\",BASEGEOGCRS[\"GCS_WGS_1984\",DATUM[\"D_WGS_1984\",ELLIPSOID[\"WGS84\",6378137.0,298.257223563,LENGTHUNIT[\"Meter\",1.0]]],PRIMEM[\"Greenwich\",0.0,ANGLEUNIT[\"Degree\",0.0174532925199433]],CS[ellipsoidal,2],ANGLEUNIT[\"Degree\",0.0174532925199433]],CONVERSION[\"Lambert_Azimuthal_Equal_Area\",METHOD[\"Lambert_Azimuthal_Equal_Area\"],PARAMETER[\"False_Easting\",0.0,LENGTHUNIT[\"Meter\",1.0]],PARAMETER[\"False_Northing\",0.0,LENGTHUNIT[\"Meter\",1.0]],PARAMETER[\"Central_Meridian\",-90.0,ANGLEUNIT[\"Degree\",0.0174532925199433]],PARAMETER[\"Latitude_Of_Origin\",15.0,ANGLEUNIT[\"Degree\",0.0174532925199433]]],CS[Cartesian,2],AXIS[\"Easting (X)\",east,ORDER[1]],AXIS[\"Northing (Y)\",north,ORDER[2]],LENGTHUNIT[\"Meter\",1.0]]",
   "wkt": "PROJCS[\"Lambert_Azimuthal_Equal_Area\",GEOGCS[\"GCS_WGS_1984\",DATUM[\"D_WGS_1984\",SPHEROID[\"WGS84\",6378137.0,298.257223563]],PRIMEM[\"Greenwich\",0.0],UNIT[\"Degree\",0.0174532925199433]],PROJECTION[\"Lambert_Azimuthal_Equal_Area\"],PARAMETER[\"False_Easting\",0.0],PARAMETER[\"False_Northing\",0.0],PARAMETER[\"Central_Meridian\",-90.0],PARAMETER[\"Latitude_Of_Origin\",15.0],UNIT[\"Meter\",1.0]]"
  }
 },
 "sortableFields": "",
 "bandCount": 65,
 "pixelType": "U8",
 "minValues": [
  0,
  0,
  0,
  0,
  0,
  0,
  0,
  0,
  0,
  0,
  0,
  0,
  0,
  0,
  0,
  0,
  0,
  0,
  0,
  0,
  0,
  0,
  0,
  0,
  0,
  0,
  0,
  0,
  0,
  0,
  0,
  0,
  0,
  0,
  0,
  0,
  0,
  0,
  0,
  0,
  0,
  0,
  0,
  0,
  0,
  0,
  0,
  0,
  0,
  0,
  0,
  0,
  0,
  0,
  0,
  0,
  0,
  0,
  0,
  0,
  0,
  0,
  0,
  0,
  0
 ],
 "maxValues": [
  100,
  100,
  100,
  100,
  100,
  100,
  100,
  100,
  100,
  100,
  100,
  100,
  100,
  100,
  100,
  100,
  100,
  100,
  100,
  63,
  68,
  89,
  79,
  68,
  79,
  91,
  100,
  100,
  100,
  100,
  100,
  100,
  100,
  100,
  100,
  100,
  100,
  100,
  100,
  100,
  100,
  100,
  100,
  100,
  100,
  100,
  100,
  100,
  100,
  100,
  100,
  100,
  100,
  100,
  100,
  100,
  100,
  100,
  100,
  100,
  100,
  100,
  100,
  100,
  100
 ],
 "meanValues": [
  0.1851126210822,
  0.048586934167764,
  0.10570383697613,
  0.79363149705309,
  2.2173755327262,
  0.96090005128913,
  0.063675231313757,
  1.2108598640716,
  4.2341133564181,
  2.23124213969,
  2.4830750567896,
  0.23699634817636,
  1.7094937511725,
  1.6703385423431,
  0.066225307493645,
  4.4112799875441,
  3.1275542716502,
  8.638940787499,
  6.103563688275,
  5.7746300346461E-4,
  0.0042745807852125,
  0.0037155008703115,
  0.015699899731183,
  0.0077056318430123,
  0.015784816051672,
  0.0039927637265907,
  0.011776746941211,
  0.010263412292178,
  0.026995363865125,
  0.012136687507362,
  0.08414382276924,
  0.01676036683949,
  0.01308139966336,
  0.10064764544783,
  0.066030699252905,
  0.056604100856287,
  0.045738171289271,
  0.020432842968603,
  0.014784991580915,
  0.16707098222265,
  0.12300303154066,
  0.0088437528740896,
  0.0043107880794964,
  6.6503825141983E-4,
  5.1038474529557E-4,
  0.2704930237195,
  0.21912518398023,
  0.11945647340972,
  0.085762804751117,
  0.17345369218699,
  0.14019937934505,
  0.097645727115571,
  0.078941508781186,
  0.089675623597165,
  0.072494956844452,
  0.0088487320121478,
  0.0071447705852749,
  6.6392202535547E-4,
  5.2285568477337E-4,
  0.15550100961647,
  0.062872780245135,
  0.034341966598304,
  0.013942048449544,
  0.089739216150769,
  0.072532985511749
 ],
 "stdvValues": [
  4.2984875775304,
  2.2037088587383,
  3.2494938702388,
  8.8731786228732,
  14.724836140117,
  9.7553409149484,
  2.5225916447357,
  10.937083934071,
  20.136623856821,
  14.76975872582,
  15.560907567173,
  4.8624548928488,
  12.962523152946,
  12.815764653003,
  2.572575551505,
  20.534571051646,
  17.406143510536,
  28.093821065052,
  23.939567247823,
  0.052607128394032,
  0.17961827745047,
  0.23369885155479,
  0.66540547939433,
  0.25374560335824,
  0.6731826501881,
  0.22053780823195,
  0.56594224422904,
  0.74356499363595,
  0.89401760115342,
  0.88038703213669,
  2.2475022267293,
  1.0542346430288,
  1.1436646559777,
  2.5817807853909,
  2.5687954146265,
  1.9369887539457,
  2.1381592914591,
  1.1639531704919,
  1.2158456170055,
  3.3248063139082,
  3.5050211735755,
  0.76575143820285,
  0.65655176926076,
  0.21031588507915,
  0.22591638744356,
  4.2271219816628,
  4.67594937798,
  2.8124765549268,
  2.9272726606221,
  3.3877794560422,
  3.7416950824582,
  2.5431985594455,
  2.8085439516686,
  2.4372527370871,
  2.6915126187389,
  0.76618158722266,
  0.84523725182975,
  0.21008513261856,
  0.22865978041573,
  3.2077409085168,
  2.5066561486753,
  1.5088516531725,
  1.1806822038067,
  2.4379859047834,
  2.6922179570657
 ],
 "hasMultidimensions": false,
 "pixelSizeX": 1000,
 "pixelSizeY": 1000,
 "meanPixelSize": 1000,
 "datasetFormat": "TIFF",
 "uncompressedSize": 42218150520,
 "blockWidth": 128,
 "blockHeight": 128,
 "compressionType": "LZW",
 "bandNames": [
  "Band_31",
  "Band_13",
  "Band_14",
  "Band_15",
  "Band_16",
  "Band_17",
  "Band_18",
  "Band_19",
  "Band_20",
  "Band_21",
  "Band_22",
  "Band_23",
  "Band_24",
  "Band_25",
  "Band_26",
  "Band_27",
  "Band_28",
  "Band_29",
  "Band_30",
  "Band_1",
  "Band_2",
  "Band_3",
  "Band_4",
  "Band_5",
  "Band_6",
  "Band_7",
  "Band_8",
  "Band_9",
  "Band_10",
  "Band_11",
  "Band_12",
  "Band_32",
  "Band_33",
  "Band_34",
  "Band_35",
  "Band_36",
  "Band_37",
  "Band_38",
  "Band_39",
  "Band_40",
  "Band_41",
  "Band_42",
  "Band_43",
  "Band_44",
  "Band_45",
  "Band_46",
  "Band_47",
  "Band_48",
  "Band_49",
  "Band_50",
  "Band_51",
  "Band_52",
  "Band_53",
  "Band_54",
  "Band_55",
  "Band_56",
  "Band_57",
  "Band_58",
  "Band_59",
  "Band_60",
  "Band_61",
  "Band_62",
  "Band_63",
  "Band_64",
  "Band_65"
 ],
 "allowCopy": true,
 "allowAnalysis": true,
 "itemAccess": false,
 "inspectionCapabilities": "",
 "noDataValue": -2147483648,
 "noDataValues": [
  -2147483648,
  -2147483648,
  -2147483648,
  -2147483648,
  -2147483648,
  -2147483648,
  -2147483648,
  -2147483648,
  -2147483648,
  -2147483648,
  -2147483648,
  -2147483648,
  -2147483648,
  -2147483648,
  -2147483648,
  -2147483648,
  -2147483648,
  -2147483648,
  -2147483648,
  -2147483648,
  -2147483648,
  -2147483648,
  -2147483648,
  -2147483648,
  -2147483648,
  -2147483648,
  -2147483648,
  -2147483648,
  -2147483648,
  -2147483648,
  -2147483648,
  -2147483648,
  -2147483648,
  -2147483648,
  -2147483648,
  -2147483648,
  -2147483648,
  -2147483648,
  -2147483648,
  -2147483648,
  -2147483648,
  -2147483648,
  -2147483648,
  -2147483648,
  -2147483648,
  -2147483648,
  -2147483648,
  -2147483648,
  -2147483648,
  -2147483648,
  -2147483648,
  -2147483648,
  -2147483648,
  -2147483648,
  -2147483648,
  -2147483648,
  -2147483648,
  -2147483648,
  -2147483648,
  -2147483648,
  -2147483648,
  -2147483648,
  -2147483648,
  -2147483648,
  -2147483648
 ],
 "minPixelSize": 0,
 "maxPixelSize": 0,
 "copyrightText": "",
 "serviceDataType": "esriImageServiceDataTypeThematic",
 "serviceSourceType": "esriImageServiceSourceTypeDataset",
 "objectIdField": "",
 "fields": [],
 "capabilities": "Image,Metadata,Mensuration",
 "defaultMosaicMethod": "Center",
 "allowedMosaicMethods": "",
 "sortField": "",
 "sortValue": null,
 "sortAscending": true,
 "mosaicOperator": "First",
 "defaultCompressionQuality": 75,
 "defaultResamplingMethod": "Bilinear",
 "maxImageHeight": 4100,
 "maxImageWidth": 15000,
 "allowRasterFunction": true,
 "rasterFunctionInfos": [
  {
   "name": "None",
   "description": "",
   "help": ""
  }
 ],
 "rasterTypeInfos": [
  {
   "name": "Raster Dataset",
   "description": "Supports all ArcGIS Raster Datasets",
   "help": ""
  }
 ],
 "mensurationCapabilities": "Basic",
 "hasHistograms": true,
 "hasColormap": false,
 "hasRasterAttributeTable": false,
 "minScale": 0,
 "maxScale": 0,
 "exportTilesAllowed": false,
 "supportsStatistics": false,
 "supportsAdvancedQueries": false,
 "editFieldsInfo": null,
 "ownershipBasedAccessControlForRasters": null,
 "allowComputeTiePoints": false,
 "useStandardizedQueries": true,
 "advancedQueryCapabilities": {
  "useStandardizedQueries": true,
  "supportsStatistics": false,
  "supportsOrderBy": false,
  "supportsDistinct": false,
  "supportsPagination": false
 },
 "spatialReference": {
  "wkt2": "PROJCRS[\"Lambert_Azimuthal_Equal_Area\",BASEGEOGCRS[\"GCS_WGS_1984\",DATUM[\"D_WGS_1984\",ELLIPSOID[\"WGS84\",6378137.0,298.257223563,LENGTHUNIT[\"Meter\",1.0]]],PRIMEM[\"Greenwich\",0.0,ANGLEUNIT[\"Degree\",0.0174532925199433]],CS[ellipsoidal,2],ANGLEUNIT[\"Degree\",0.0174532925199433]],CONVERSION[\"Lambert_Azimuthal_Equal_Area\",METHOD[\"Lambert_Azimuthal_Equal_Area\"],PARAMETER[\"False_Easting\",0.0,LENGTHUNIT[\"Meter\",1.0]],PARAMETER[\"False_Northing\",0.0,LENGTHUNIT[\"Meter\",1.0]],PARAMETER[\"Central_Meridian\",-90.0,ANGLEUNIT[\"Degree\",0.0174532925199433]],PARAMETER[\"Latitude_Of_Origin\",15.0,ANGLEUNIT[\"Degree\",0.0174532925199433]]],CS[Cartesian,2],AXIS[\"Easting (X)\",east,ORDER[1]],AXIS[\"Northing (Y)\",north,ORDER[2]],LENGTHUNIT[\"Meter\",1.0]]",
  "wkt": "PROJCS[\"Lambert_Azimuthal_Equal_Area\",GEOGCS[\"GCS_WGS_1984\",DATUM[\"D_WGS_1984\",SPHEROID[\"WGS84\",6378137.0,298.257223563]],PRIMEM[\"Greenwich\",0.0],UNIT[\"Degree\",0.0174532925199433]],PROJECTION[\"Lambert_Azimuthal_Equal_Area\"],PARAMETER[\"False_Easting\",0.0],PARAMETER[\"False_Northing\",0.0],PARAMETER[\"Central_Meridian\",-90.0],PARAMETER[\"Latitude_Of_Origin\",15.0],UNIT[\"Meter\",1.0]]"
 }
}
