View In:
ArcGIS JavaScript
ArcGIS Online Map Viewer
ArcGIS Earth
Service Description: This represents the percent difference in probability of occurrence of eelgrass under a high temperature future environment compared to current conditions (2023) in San Francisco Bay. It uses contemporary data on marine heatwaves to estimate future conditions.
Name: Predicted_Eelgrass_Distribution_Change_Under_High_Temperature_Regime
Description: This represents the percent difference in probability of occurrence of eelgrass under a high temperature future environment compared to current conditions (2023) in San Francisco Bay. It uses contemporary data on marine heatwaves to estimate future conditions.
Single Fused Map Cache: false
Extent:
XMin: 541785.0
YMin: 4144745.0
XMax: 597215.0
YMax: 4223995.0
Spatial Reference: 26910
(26910)
LatestVCSWkid(0)
Initial Extent:
XMin: 541785.0
YMin: 4144745.0
XMax: 597215.0
YMax: 4223995.0
Spatial Reference: 26910
(26910)
LatestVCSWkid(0)
Full Extent:
XMin: 541785.0
YMin: 4144745.0
XMax: 597215.0
YMax: 4223995.0
Spatial Reference: 26910
(26910)
LatestVCSWkid(0)
Pixel Size X: 10.0
Pixel Size Y: 10.0
Band Count: 1
Pixel Type: F32
RasterFunction Infos: {"rasterFunctionInfos": [{
"name": "None",
"description": "",
"help": ""
}]}
Mensuration Capabilities: Basic
Inspection Capabilities:
Has Histograms: true
Has Colormap: false
Has Multi Dimensions : false
Rendering Rule:
Min Scale: 0
Max Scale: 0
Copyright Text: Gilkerson, W.A., D. Orr, K.W. Merkel, K.A. Boyer, P. Fernandez. in prep. Modeling the Effects of Extreme
Episodic Events and Sea Level Rise on Eelgrass (Zostera marina) Habitat in San Francisco Bay.
Service Data Type: esriImageServiceDataTypeGeneric
Min Values: -0.85533714294434
Max Values: -0.01182347536087
Mean Values: -0.20217295688715
Standard Deviation Values: 0.1811055828719
Object ID Field:
Fields:
None
Default Mosaic Method: Center
Allowed Mosaic Methods:
SortField:
SortValue: null
Mosaic Operator: First
Default Compression Quality: 75
Default Resampling Method: Bilinear
Max Record Count: null
Max Image Height: 4100
Max Image Width: 15000
Max Download Image Count: null
Max Mosaic Image Count: null
Allow Raster Function: true
Allow Copy: true
Allow Analysis: true
Allow Compute TiePoints: false
Supports Statistics: false
Supports Advanced Queries: false
Use StandardizedQueries: true
Raster Type Infos:
Name: Raster Dataset
Description: Supports all ArcGIS Raster Datasets
Help:
Has Raster Attribute Table: false
Edit Fields Info: null
Ownership Based AccessControl For Rasters: null
Child Resources:
Info
Histograms
Statistics
Key Properties
Legend
Raster Function Infos
Supported Operations:
Export Image
Identify
Measure
Compute Histograms
Compute Statistics Histograms
Get Samples
Compute Class Statistics
Query Boundary
Compute Pixel Location
Compute Angles
Validate
Project