{ "currentVersion": 11.3, "serviceDescription": "
This represents the percent difference in probability of occurrence of eelgrass under a high temperature future environment compared to current conditions (2023) in San Francisco Bay. It uses contemporary data on marine heatwaves to estimate future conditions. <\/SPAN><\/P><\/DIV><\/DIV><\/DIV>",
"name": "Predicted_Eelgrass_Distribution_Change_Under_High_Temperature_Regime",
"description": " This represents the percent difference in probability of occurrence of eelgrass under a high temperature future environment compared to current conditions (2023) in San Francisco Bay. It uses contemporary data on marine heatwaves to estimate future conditions. <\/SPAN><\/P><\/DIV><\/DIV><\/DIV>",
"extent": {
"xmin": 541785,
"ymin": 4144745,
"xmax": 597215,
"ymax": 4223995,
"spatialReference": {
"wkid": 26910,
"latestWkid": 26910
}
},
"initialExtent": {
"xmin": 541785,
"ymin": 4144745,
"xmax": 597215,
"ymax": 4223995,
"spatialReference": {
"wkid": 26910,
"latestWkid": 26910
}
},
"fullExtent": {
"xmin": 541785,
"ymin": 4144745,
"xmax": 597215,
"ymax": 4223995,
"spatialReference": {
"wkid": 26910,
"latestWkid": 26910
}
},
"sortableFields": "",
"bandCount": 1,
"pixelType": "F32",
"minValues": [
-0.85533714294434
],
"maxValues": [
-0.01182347536087
],
"meanValues": [
-0.20217295688715
],
"stdvValues": [
0.1811055828719
],
"hasMultidimensions": false,
"pixelSizeX": 10,
"pixelSizeY": 10,
"meanPixelSize": 10,
"datasetFormat": "TIFF",
"uncompressedSize": 175713100,
"blockWidth": 128,
"blockHeight": 128,
"compressionType": "None",
"bandNames": [
"Band_1"
],
"allowCopy": true,
"allowAnalysis": true,
"itemAccess": false,
"inspectionCapabilities": "",
"noDataValue": -3.4028234663852886E38,
"noDataValues": [
-3.4028234663852886E38
],
"minPixelSize": 0,
"maxPixelSize": 0,
"copyrightText": "Gilkerson, W.A., D. Orr, K.W. Merkel, K.A. Boyer, P. Fernandez. in prep. Modeling the Effects of Extreme\nEpisodic Events and Sea Level Rise on Eelgrass (Zostera marina) Habitat in San Francisco Bay.",
"serviceDataType": "esriImageServiceDataTypeGeneric",
"serviceSourceType": "esriImageServiceSourceTypeDataset",
"objectIdField": "",
"fields": [],
"capabilities": "Image,Metadata,Mensuration",
"defaultMosaicMethod": "Center",
"allowedMosaicMethods": "",
"sortField": "",
"sortValue": null,
"sortAscending": true,
"mosaicOperator": "First",
"defaultCompressionQuality": 75,
"defaultResamplingMethod": "Bilinear",
"maxImageHeight": 4100,
"maxImageWidth": 15000,
"allowRasterFunction": true,
"rasterFunctionInfos": [
{
"name": "None",
"description": "",
"help": ""
}
],
"rasterTypeInfos": [
{
"name": "Raster Dataset",
"description": "Supports all ArcGIS Raster Datasets",
"help": ""
}
],
"mensurationCapabilities": "Basic",
"hasHistograms": true,
"hasColormap": false,
"hasRasterAttributeTable": false,
"minScale": 0,
"maxScale": 0,
"exportTilesAllowed": false,
"supportsStatistics": false,
"supportsAdvancedQueries": false,
"editFieldsInfo": null,
"ownershipBasedAccessControlForRasters": null,
"allowComputeTiePoints": false,
"useStandardizedQueries": true,
"advancedQueryCapabilities": {
"useStandardizedQueries": true,
"supportsStatistics": false,
"supportsOrderBy": false,
"supportsDistinct": false,
"supportsPagination": false
},
"spatialReference": {
"wkid": 26910,
"latestWkid": 26910
}
}