View In:
  ArcGIS JavaScript
  ArcGIS Online Map Viewer
  ArcGIS Earth
Service Description:  Southwest/Final_2022_Cropland
Name:  Southwest/Final_2022_Cropland
Description:  
Single Fused Map Cache:  false
Extent: 
XMin: -1.2848963851443952E7
YMin: 3803072.548595275
XMax: -1.2588023851443952E7
YMax: 4195142.548595275
Spatial Reference: 102100
 (3857)
 LatestVCSWkid(0)
Initial Extent:
XMin: -1.2848963851443952E7
YMin: 3803072.548595275
XMax: -1.2588023851443952E7
YMax: 4195142.548595275
Spatial Reference: 102100
 (3857)
 LatestVCSWkid(0)
Full Extent:
XMin: -1.2848963851443952E7
YMin: 3803072.548595275
XMax: -1.2588023851443952E7
YMax: 4195142.548595275
Spatial Reference: 102100
 (3857)
 LatestVCSWkid(0)
Pixel Size X: 30.0
Pixel Size Y:  30.0
Band Count: 1
Pixel Type: U8
RasterFunction Infos:  {"rasterFunctionInfos": [{
 "name": "None",
 "description": "",
 "help": ""
}]}
Mensuration Capabilities: Basic
Inspection Capabilities: 
Has Histograms:  true
Has Colormap:  true
Has Multi Dimensions :  false
Rendering Rule: 
Min Scale:  0
Max Scale:  0
Copyright Text:  
Service Data Type:  esriImageServiceDataTypeThematic
Min Values:  1
Max Values:  246
Mean Values:  122.2188627567333
Standard Deviation Values:  62.092264827474025
Object ID Field:  
Fields: 
None
Default Mosaic Method:  Center
Allowed Mosaic Methods:  
SortField:  
SortValue:  null
Mosaic Operator:  First
Default Compression Quality:  75
Default Resampling Method:  Bilinear
Max Record Count:  null
Max Image Height:  4100
Max Image Width:  15000
Max Download Image Count:  null
Max Mosaic Image Count:  null
Allow Raster Function:  true
Allow Copy:  true
Allow Analysis:  true
Allow Compute TiePoints:  false
Supports Statistics:  false
Supports Advanced Queries:  false
Use StandardizedQueries:  true
Raster Type Infos: 
Name: Raster Dataset
Description: Supports all ArcGIS Raster Datasets
Help: 
Has Raster Attribute Table: true
Edit Fields Info:  null
Ownership Based AccessControl For Rasters:  null
Child Resources:
  
Info
  Raster Attribute Table
  Histograms
  Statistics
  Key Properties
  Color Map
  Legend
  Raster Function Infos
Supported Operations:
  
Export Image
  Identify
  Measure
  Compute Histograms
  Compute Statistics Histograms
  Get Samples
  Compute Class Statistics
  Query Boundary
  Compute Pixel Location
  Compute Angles
  Validate
  Project