View In:
ArcGIS JavaScript
ArcGIS Online Map Viewer
ArcGIS Earth
Service Description: AlasSeguras2/AlasSeguras2_Composite
Name: AlasSeguras2/AlasSeguras2_Composite
Description:
Single Fused Map Cache: false
Extent:
XMin: -4507535.246175572
YMin: -8319497.346555881
XMax: 8368464.753824428
YMax: 4085502.653444119
Spatial Reference: 0
(0)
LatestVCSWkid(0)
Initial Extent:
XMin: -4507535.246175572
YMin: -8319497.346555881
XMax: 8368464.753824428
YMax: 4085502.653444119
Spatial Reference: 0
(0)
LatestVCSWkid(0)
Full Extent:
XMin: -4507535.246175572
YMin: -8319497.346555881
XMax: 8368464.753824428
YMax: 4085502.653444119
Spatial Reference: 0
(0)
LatestVCSWkid(0)
Pixel Size X: 1000.0
Pixel Size Y: 1000.0
Band Count: 42
Pixel Type: U8
RasterFunction Infos: {"rasterFunctionInfos": [{
"name": "None",
"description": "",
"help": ""
}]}
Mensuration Capabilities: Basic
Inspection Capabilities:
Has Histograms: true
Has Colormap: false
Has Multi Dimensions : false
Rendering Rule:
Min Scale: 0
Max Scale: 0
Copyright Text:
Service Data Type: esriImageServiceDataTypeGeneric
Min Values: 0, 0, 0, 0, 0, 0, 0, 0, 0, 0, 0, 0, 0, 100, 100, 100, 100, 100, 100, 100, 100, 100, 100, 0, 100, 100, 0, 100, 100, 100, 100, 100, 100, 100, 100, 100, 100, 100, 100, 100, 0, 0
Max Values: 1, 63, 66, 89, 73, 66, 73, 91, 100, 100, 100, 100, 100, 100, 100, 100, 100, 100, 100, 100, 100, 100, 100, 100, 100, 100, 100, 100, 100, 100, 100, 100, 100, 100, 100, 100, 100, 100, 100, 100, 100, 100
Mean Values: 0.20058422566038495, 0.32367341188073473, 2.4350627107345737, 2.113524770609887, 8.978594071960691, 4.405087969567285, 9.02661453655272, 2.2736152938482945, 10.030955868888482, 23.944974960898826, 15.315436123534028, 42.26819861802989, 48.00263019186169, 100, 100, 100, 100, 100, 100, 100, 100, 100, 100, 20.945012232873065, 100, 100, 5.047381873470891, 100, 100, 100, 100, 100, 100, 100, 100, 100, 100, 100, 100, 100, 4.726786057112, 76.25246283483695
Standard Deviation Values: 0.4004375156870311, 1.1267658606199051, 3.4615835907563826, 5.044891614952154, 12.92268320494639, 4.084201176498414, 13.113850037215165, 4.650115004545797, 12.871756781743331, 26.518279751431542, 13.233439130110838, 29.15293421326875, 24.033324760326792, 0, 0, 0, 0, 0, 0, 0, 0, 0, 0, 40.691641627024154, 0, 0, 21.89206947870045, 0, 0, 0, 0, 0, 0, 0, 0, 0, 0, 0, 0, 0, 5.225743261320745, 29.697727239520162
Object ID Field:
Fields:
None
Default Mosaic Method: Center
Allowed Mosaic Methods:
SortField:
SortValue: null
Mosaic Operator: First
Default Compression Quality: 75
Default Resampling Method: Bilinear
Max Record Count: null
Max Image Height: 4100
Max Image Width: 15000
Max Download Image Count: null
Max Mosaic Image Count: null
Allow Raster Function: true
Allow Copy: true
Allow Analysis: true
Allow Compute TiePoints: false
Supports Statistics: false
Supports Advanced Queries: false
Use StandardizedQueries: true
Raster Type Infos:
Name: Raster Dataset
Description: Supports all ArcGIS Raster Datasets
Help:
Has Raster Attribute Table: false
Edit Fields Info: null
Ownership Based AccessControl For Rasters: null
Child Resources:
Info
Histograms
Statistics
Key Properties
Legend
Raster Function Infos
Supported Operations:
Export Image
Identify
Measure
Compute Histograms
Compute Statistics Histograms
Get Samples
Compute Class Statistics
Query Boundary
Compute Pixel Location
Compute Angles
Validate
Project