View In:
ArcGIS JavaScript
ArcGIS Online Map Viewer
ArcGIS Earth
Service Description: UMR/INBU_Top20_AllUMR
Name: UMR/INBU_Top20_AllUMR
Description:
Single Fused Map Cache: false
Extent:
XMin: 298769.74338825303
YMin: -351560.004221819
XMax: 759769.743388253
YMax: 276439.995778181
Spatial Reference: 0
(0)
LatestVCSWkid(0)
Initial Extent:
XMin: 298769.74338825303
YMin: -351560.004221819
XMax: 759769.743388253
YMax: 276439.995778181
Spatial Reference: 0
(0)
LatestVCSWkid(0)
Full Extent:
XMin: 298769.74338825303
YMin: -351560.004221819
XMax: 759769.743388253
YMax: 276439.995778181
Spatial Reference: 0
(0)
LatestVCSWkid(0)
Pixel Size X: 1000.0
Pixel Size Y: 1000.0
Band Count: 1
Pixel Type: F32
RasterFunction Infos: {"rasterFunctionInfos": [{
"name": "None",
"description": "",
"help": ""
}]}
Mensuration Capabilities: Basic
Inspection Capabilities:
Has Histograms: true
Has Colormap: false
Has Multi Dimensions : false
Rendering Rule:
Min Scale: 0
Max Scale: 0
Resampling: false
Copyright Text:
Service Data Type: esriImageServiceDataTypeGeneric
Min Values: 0.7190706133842468
Max Values: 0.9999386072158813
Mean Values: 0.8022384255866832
Standard Deviation Values: 0.08516796932701842
Object ID Field:
Fields:
None
Default Mosaic Method: Center
Allowed Mosaic Methods:
SortField:
SortValue: null
Mosaic Operator: First
Default Compression Quality: 75
Default Resampling Method: Bilinear
Max Record Count: null
Max Image Height: 4100
Max Image Width: 15000
Max Download Image Count: null
Max Mosaic Image Count: null
Allow Raster Function: true
Allow Copy: true
Allow Analysis: true
Allow Compute TiePoints: false
Supports Statistics: false
Supports Advanced Queries: false
Use StandardizedQueries: true
Raster Type Infos:
Name: Raster Dataset
Description: Supports all ArcGIS Raster Datasets
Help:
Has Raster Attribute Table: false
Edit Fields Info: null
Ownership Based AccessControl For Rasters: null
Child Resources:
Info
Histograms
Statistics
Key Properties
Legend
Raster Function Infos
Supported Operations:
Export Image
Identify
Measure
Compute Histograms
Compute Statistics Histograms
Get Samples
Compute Class Statistics
Query Boundary
Compute Pixel Location
Compute Angles
Validate
Project