View In:
ArcGIS JavaScript
ArcGIS Online Map Viewer
ArcGIS Earth
Service Description: UMR/INBU_RelativeImportance_UMR
Name: UMR/INBU_RelativeImportance_UMR
Description:
Single Fused Map Cache: false
Extent:
XMin: -141543.80644377388
YMin: -369626.7768768269
XMax: 840091.1319660805
YMax: 941492.4600071158
Spatial Reference: 0
(0)
LatestVCSWkid(0)
Initial Extent:
XMin: -141543.80644377388
YMin: -369626.7768768269
XMax: 840091.1319660805
YMax: 941492.4600071158
Spatial Reference: 0
(0)
LatestVCSWkid(0)
Full Extent:
XMin: -141543.80644377388
YMin: -369626.7768768269
XMax: 840091.1319660805
YMax: 941492.4600071158
Spatial Reference: 0
(0)
LatestVCSWkid(0)
Pixel Size X: 1007.8387458006719
Pixel Size Y: 1002.3847376788553
Band Count: 1
Pixel Type: F32
RasterFunction Infos: {"rasterFunctionInfos": [{
"name": "None",
"description": "",
"help": ""
}]}
Mensuration Capabilities: Basic
Inspection Capabilities:
Has Histograms: true
Has Colormap: false
Has Multi Dimensions : false
Rendering Rule:
Min Scale: 0
Max Scale: 0
Copyright Text:
Service Data Type: esriImageServiceDataTypeGeneric
Min Values: 0
Max Values: 1
Mean Values: 0.3026587544819398
Standard Deviation Values: 0.32874572482235587
Object ID Field:
Fields:
None
Default Mosaic Method: Center
Allowed Mosaic Methods:
SortField:
SortValue: null
Mosaic Operator: First
Default Compression Quality: 75
Default Resampling Method: Bilinear
Max Record Count: null
Max Image Height: 4100
Max Image Width: 15000
Max Download Image Count: null
Max Mosaic Image Count: null
Allow Raster Function: true
Allow Copy: true
Allow Analysis: true
Allow Compute TiePoints: false
Supports Statistics: false
Supports Advanced Queries: false
Use StandardizedQueries: true
Raster Type Infos:
Name: Raster Dataset
Description: Supports all ArcGIS Raster Datasets
Help:
Has Raster Attribute Table: false
Edit Fields Info: null
Ownership Based AccessControl For Rasters: null
Child Resources:
Info
Histograms
Statistics
Key Properties
Legend
Raster Function Infos
Supported Operations:
Export Image
Identify
Measure
Compute Histograms
Compute Statistics Histograms
Get Samples
Compute Class Statistics
Query Boundary
Compute Pixel Location
Compute Angles
Validate
Project