View In:
ArcGIS JavaScript
ArcGIS Online Map Viewer
ArcGIS Earth
Service Description: TNC_Climate_California
Name: TNC_Climate_California
Description:
Single Fused Map Cache: false
Extent:
XMin: -417040.64537253155
YMin: -729916.8347406285
XMax: 580339.3546274684
YMax: 608473.1652593715
Spatial Reference: 3310
(3310)
LatestVCSWkid(0)
Initial Extent:
XMin: -417040.64537253155
YMin: -729916.8347406285
XMax: 580339.3546274684
YMax: 608473.1652593715
Spatial Reference: 3310
(3310)
LatestVCSWkid(0)
Full Extent:
XMin: -417040.64537253155
YMin: -729916.8347406285
XMax: 580339.3546274684
YMax: 608473.1652593715
Spatial Reference: 3310
(3310)
LatestVCSWkid(0)
Pixel Size X: 90.0
Pixel Size Y: 90.0
Band Count: 1
Pixel Type: U16
RasterFunction Infos: {"rasterFunctionInfos": [{
"name": "None",
"description": "",
"help": ""
}]}
Mensuration Capabilities: Basic
Inspection Capabilities:
Has Histograms: true
Has Colormap: false
Has Multi Dimensions : false
Rendering Rule:
Min Scale: 0
Max Scale: 0
Copyright Text:
Service Data Type: esriImageServiceDataTypeGeneric
Min Values: 0
Max Values: 304
Mean Values: 45.161379041640416
Standard Deviation Values: 69.48324589886163
Object ID Field:
Fields:
None
Default Mosaic Method: Center
Allowed Mosaic Methods:
SortField:
SortValue: null
Mosaic Operator: First
Default Compression Quality: 75
Default Resampling Method: Bilinear
Max Record Count: null
Max Image Height: 4100
Max Image Width: 15000
Max Download Image Count: null
Max Mosaic Image Count: null
Allow Raster Function: true
Allow Copy: true
Allow Analysis: true
Allow Compute TiePoints: false
Supports Statistics: false
Supports Advanced Queries: false
Use StandardizedQueries: true
Raster Type Infos:
Name: Raster Dataset
Description: Supports all ArcGIS Raster Datasets
Help:
Has Raster Attribute Table: true
Edit Fields Info: null
Ownership Based AccessControl For Rasters: null
Child Resources:
Info
Raster Attribute Table
Histograms
Statistics
Key Properties
Legend
Raster Function Infos
Supported Operations:
Export Image
Identify
Measure
Compute Histograms
Compute Statistics Histograms
Get Samples
Compute Class Statistics
Query Boundary
Compute Pixel Location
Compute Angles
Validate
Project