View In:
ArcGIS JavaScript
ArcGIS Online Map Viewer
ArcGIS Earth
Service Description: Southwest/Bartlett_Lake_Option_A_Imagery
Name: Southwest/Bartlett_Lake_Option_A_Imagery
Description:
Single Fused Map Cache: false
Extent:
XMin: 433252.732320761
YMin: 3741079.2600933784
XMax: 446099.63038507616
YMax: 3759999.7346707378
Spatial Reference: 26912
(26912)
LatestVCSWkid(0)
Initial Extent:
XMin: 433252.732320761
YMin: 3741079.2600933784
XMax: 446099.63038507616
YMax: 3759999.7346707378
Spatial Reference: 26912
(26912)
LatestVCSWkid(0)
Full Extent:
XMin: 433252.732320761
YMin: 3741079.2600933784
XMax: 446099.63038507616
YMax: 3759999.7346707378
Spatial Reference: 26912
(26912)
LatestVCSWkid(0)
Pixel Size X: 0.3056674692311296
Pixel Size Y: 0.3025581606677763
Band Count: 1
Pixel Type: U8
RasterFunction Infos: {"rasterFunctionInfos": [{
"name": "None",
"description": "",
"help": ""
}]}
Mensuration Capabilities: Basic
Inspection Capabilities:
Has Histograms: true
Has Colormap: false
Has Multi Dimensions : false
Rendering Rule:
Min Scale: 0
Max Scale: 0
Copyright Text:
Service Data Type: esriImageServiceDataTypeThematic
Min Values: 0
Max Values: 255
Mean Values: 252.17462794215
Standard Deviation Values: 26.631629850201
Object ID Field:
Fields:
None
Default Mosaic Method: Center
Allowed Mosaic Methods:
SortField:
SortValue: null
Mosaic Operator: First
Default Compression Quality: 75
Default Resampling Method: Bilinear
Max Record Count: null
Max Image Height: 4100
Max Image Width: 15000
Max Download Image Count: null
Max Mosaic Image Count: null
Allow Raster Function: true
Allow Copy: false
Allow Analysis: false
Allow Compute TiePoints: false
Supports Statistics: false
Supports Advanced Queries: false
Use StandardizedQueries: true
Raster Type Infos:
Name: Raster Dataset
Description: Supports all ArcGIS Raster Datasets
Help:
Has Raster Attribute Table: true
Edit Fields Info: null
Ownership Based AccessControl For Rasters: null
Child Resources:
Info
Raster Attribute Table
Histograms
Statistics
Key Properties
Legend
Raster Function Infos
Supported Operations:
Export Image
Identify
Measure
Compute Histograms
Compute Statistics Histograms
Get Samples
Compute Class Statistics
Query Boundary
Compute Pixel Location
Compute Angles
Validate
Project