View In:
ArcGIS JavaScript
ArcGIS Online Map Viewer
ArcGIS Earth
Service Description: Southwest/Bartlett_Lake_Habitat_Clip_OptionB_tif
Name: Southwest/Bartlett_Lake_Habitat_Clip_OptionB_tif
Description:
Single Fused Map Cache: false
Extent:
XMin: 435642.4809109392
YMin: 3741249.504075995
XMax: 445638.7070907799
YMax: 3758338.1068353336
Spatial Reference: 26912
(26912)
LatestVCSWkid(0)
Initial Extent:
XMin: 435642.4809109392
YMin: 3741249.504075995
XMax: 445638.7070907799
YMax: 3758338.1068353336
Spatial Reference: 26912
(26912)
LatestVCSWkid(0)
Full Extent:
XMin: 435642.4809109392
YMin: 3741249.504075995
XMax: 445638.7070907799
YMax: 3758338.1068353336
Spatial Reference: 26912
(26912)
LatestVCSWkid(0)
Pixel Size X: 0.30566694736998695
Pixel Size Y: 0.302554890305385
Band Count: 1
Pixel Type: U8
RasterFunction Infos: {"rasterFunctionInfos": [{
"name": "None",
"description": "",
"help": ""
}]}
Mensuration Capabilities: Basic
Inspection Capabilities:
Has Histograms: true
Has Colormap: false
Has Multi Dimensions : false
Rendering Rule:
Min Scale: 0
Max Scale: 0
Copyright Text:
Service Data Type: esriImageServiceDataTypeThematic
Min Values: 0
Max Values: 255
Mean Values: 217.62870158426
Standard Deviation Values: 89.955646831812
Object ID Field:
Fields:
None
Default Mosaic Method: Center
Allowed Mosaic Methods:
SortField:
SortValue: null
Mosaic Operator: First
Default Compression Quality: 75
Default Resampling Method: Bilinear
Max Record Count: null
Max Image Height: 4100
Max Image Width: 15000
Max Download Image Count: null
Max Mosaic Image Count: null
Allow Raster Function: true
Allow Copy: false
Allow Analysis: false
Allow Compute TiePoints: false
Supports Statistics: false
Supports Advanced Queries: false
Use StandardizedQueries: true
Raster Type Infos:
Name: Raster Dataset
Description: Supports all ArcGIS Raster Datasets
Help:
Has Raster Attribute Table: true
Edit Fields Info: null
Ownership Based AccessControl For Rasters: null
Child Resources:
Info
Raster Attribute Table
Histograms
Statistics
Key Properties
Legend
Raster Function Infos
Supported Operations:
Export Image
Identify
Measure
Compute Histograms
Compute Statistics Histograms
Get Samples
Compute Class Statistics
Query Boundary
Compute Pixel Location
Compute Angles
Validate
Project