View In:
ArcGIS JavaScript
ArcGIS Online Map Viewer
ArcGIS Earth
Service Description: SEALT/SEAK_Lakes_and_Ponds
Name: SEALT/SEAK_Lakes_and_Ponds
Description:
Single Fused Map Cache: false
Extent:
XMin: 192045.08929999918
YMin: 1088408.9496999998
XMax: 750985.0892999992
YMax: 1778938.9496999998
Spatial Reference: 0
(0)
LatestVCSWkid(0)
Initial Extent:
XMin: 192045.08929999918
YMin: 1088408.9496999998
XMax: 750985.0892999992
YMax: 1778938.9496999998
Spatial Reference: 0
(0)
LatestVCSWkid(0)
Full Extent:
XMin: 192045.08929999918
YMin: 1088408.9496999998
XMax: 750985.0892999992
YMax: 1778938.9496999998
Spatial Reference: 0
(0)
LatestVCSWkid(0)
Pixel Size X: 10.0
Pixel Size Y: 10.0
Band Count: 1
Pixel Type: U2
RasterFunction Infos: {"rasterFunctionInfos": [{
"name": "None",
"description": "",
"help": ""
}]}
Mensuration Capabilities: Basic
Inspection Capabilities:
Has Histograms: false
Has Colormap: false
Has Multi Dimensions : false
Rendering Rule:
Min Scale: 0
Max Scale: 0
Resampling: false
Copyright Text:
Service Data Type: esriImageServiceDataTypeGeneric
Min Values: 0
Max Values: 1
Mean Values: 0.0033717755741620044
Standard Deviation Values: 0.05796901505253855
Object ID Field:
Fields:
None
Default Mosaic Method: Center
Allowed Mosaic Methods:
SortField:
SortValue: null
Mosaic Operator: First
Default Compression Quality: 75
Default Resampling Method: Bilinear
Max Record Count: null
Max Image Height: 4100
Max Image Width: 15000
Max Download Image Count: null
Max Mosaic Image Count: null
Allow Raster Function: true
Allow Copy: true
Allow Analysis: true
Allow Compute TiePoints: false
Supports Statistics: false
Supports Advanced Queries: false
Use StandardizedQueries: true
Raster Type Infos:
Name: Raster Dataset
Description: Supports all ArcGIS Raster Datasets
Help:
Has Raster Attribute Table: true
Edit Fields Info: null
Ownership Based AccessControl For Rasters: null
Child Resources:
Info
Raster Attribute Table
Statistics
Key Properties
Legend
Raster Function Infos
Supported Operations:
Export Image
Identify
Measure
Compute Histograms
Compute Statistics Histograms
Get Samples
Compute Class Statistics
Query Boundary
Compute Pixel Location
Compute Angles
Validate
Project