View In:
ArcGIS JavaScript
ArcGIS Online Map Viewer
ArcGIS Earth
Service Description: NC_Forest_Tool/NC_Forest_Loss
Name: NC_Forest_Tool/NC_Forest_Loss
Description:
Single Fused Map Cache: false
Extent:
XMin: -9419590.8517084
YMin: 3975164.1715278313
XMax: -8380528.169296933
YMax: 4402522.057535206
Spatial Reference: 102100
(3857)
LatestVCSWkid(0)
Initial Extent:
XMin: -9419590.8517084
YMin: 3975164.1715278313
XMax: -8380528.169296933
YMax: 4402522.057535206
Spatial Reference: 102100
(3857)
LatestVCSWkid(0)
Full Extent:
XMin: -9419590.8517084
YMin: 3975164.1715278313
XMax: -8380528.169296933
YMax: 4402522.057535206
Spatial Reference: 102100
(3857)
LatestVCSWkid(0)
Pixel Size X: 25.865989953236557
Pixel Size Y: 25.86598995323657
Band Count: 1
Pixel Type: U8
RasterFunction Infos: {"rasterFunctionInfos": [{
"name": "None",
"description": "",
"help": ""
}]}
Mensuration Capabilities: Basic
Inspection Capabilities:
Has Histograms: true
Has Colormap: false
Has Multi Dimensions : false
Rendering Rule:
Min Scale: 0
Max Scale: 0
Copyright Text:
Service Data Type: esriImageServiceDataTypeThematic
Min Values: 0
Max Values: 24
Mean Values: 1.9534579020836
Standard Deviation Values: 5.2866415346327
Object ID Field:
Fields:
None
Default Mosaic Method: Center
Allowed Mosaic Methods:
SortField:
SortValue: null
Mosaic Operator: First
Default Compression Quality: 75
Default Resampling Method: Bilinear
Max Record Count: null
Max Image Height: 4100
Max Image Width: 15000
Max Download Image Count: null
Max Mosaic Image Count: null
Allow Raster Function: true
Allow Copy: true
Allow Analysis: true
Allow Compute TiePoints: false
Supports Statistics: false
Supports Advanced Queries: false
Use StandardizedQueries: true
Raster Type Infos:
Name: Raster Dataset
Description: Supports all ArcGIS Raster Datasets
Help:
Has Raster Attribute Table: true
Edit Fields Info: null
Ownership Based AccessControl For Rasters: null
Child Resources:
Info
Raster Attribute Table
Histograms
Statistics
Key Properties
Legend
Raster Function Infos
Supported Operations:
Export Image
Identify
Measure
Compute Histograms
Compute Statistics Histograms
Get Samples
Compute Class Statistics
Query Boundary
Compute Pixel Location
Compute Angles
Validate
Project