View In:
ArcGIS JavaScript
ArcGIS Online Map Viewer
ArcGIS Earth
Service Description: DesertPrioritizationWeightedOverlay
Name: DesertPrioritizationWeightedOverlay
Description:
Single Fused Map Cache: false
Extent:
XMin: 114686.74501601898
YMin: -592854.1965590119
XMax: 539686.745016019
YMax: -68854.19655901194
Spatial Reference: 3310
(3310)
LatestVCSWkid(0)
Initial Extent:
XMin: 114686.74501601898
YMin: -592854.1965590119
XMax: 539686.745016019
YMax: -68854.19655901194
Spatial Reference: 3310
(3310)
LatestVCSWkid(0)
Full Extent:
XMin: 114686.74501601898
YMin: -592854.1965590119
XMax: 539686.745016019
YMax: -68854.19655901194
Spatial Reference: 3310
(3310)
LatestVCSWkid(0)
Pixel Size X: 1000.0
Pixel Size Y: 1000.0
Band Count: 1
Pixel Type: F32
RasterFunction Infos: {"rasterFunctionInfos": [{
"name": "None",
"description": "",
"help": ""
}]}
Mensuration Capabilities: Basic
Inspection Capabilities:
Has Histograms: true
Has Colormap: false
Has Multi Dimensions : false
Rendering Rule:
Min Scale: 0
Max Scale: 0
Copyright Text:
Service Data Type: esriImageServiceDataTypeGeneric
Min Values: 0.093249566853046
Max Values: 0.88732624053955
Mean Values: 0.47438364466619
Standard Deviation Values: 0.12811348375393
Object ID Field:
Fields:
None
Default Mosaic Method: Center
Allowed Mosaic Methods:
SortField:
SortValue: null
Mosaic Operator: First
Default Compression Quality: 75
Default Resampling Method: Bilinear
Max Record Count: null
Max Image Height: 4100
Max Image Width: 15000
Max Download Image Count: null
Max Mosaic Image Count: null
Allow Raster Function: true
Allow Copy: true
Allow Analysis: true
Allow Compute TiePoints: false
Supports Statistics: false
Supports Advanced Queries: false
Use StandardizedQueries: true
Raster Type Infos:
Name: Raster Dataset
Description: Supports all ArcGIS Raster Datasets
Help:
Has Raster Attribute Table: false
Edit Fields Info: null
Ownership Based AccessControl For Rasters: null
Child Resources:
Info
Histograms
Statistics
Key Properties
Legend
Raster Function Infos
Supported Operations:
Export Image
Identify
Measure
Compute Histograms
Compute Statistics Histograms
Get Samples
Compute Class Statistics
Query Boundary
Compute Pixel Location
Compute Angles
Validate
Project