View In:
ArcGIS JavaScript
ArcGIS Online Map Viewer
ArcGIS Earth
Service Description: Currituck_Sound/sav_distance
Name: Currituck_Sound/sav_distance
Description:
Single Fused Map Cache: false
Extent:
XMin: 1641473.3779374168
YMin: -294992.5256182598
XMax: 1717613.3779374168
YMax: -190562.5256182598
Spatial Reference: 0
(0)
LatestVCSWkid(0)
Initial Extent:
XMin: 1641473.3779374168
YMin: -294992.5256182598
XMax: 1717613.3779374168
YMax: -190562.5256182598
Spatial Reference: 0
(0)
LatestVCSWkid(0)
Full Extent:
XMin: 1641473.3779374168
YMin: -294992.5256182598
XMax: 1717613.3779374168
YMax: -190562.5256182598
Spatial Reference: 0
(0)
LatestVCSWkid(0)
Pixel Size X: 30.0
Pixel Size Y: 30.0
Band Count: 1
Pixel Type: F32
RasterFunction Infos: {"rasterFunctionInfos": [
{
"name": "Raster Function Template",
"description": "for Currituck Sound rasters",
"help": ""
},
{
"name": "Raster Function Template (1)",
"description": "for Currituck Sound rasters",
"help": ""
},
{
"name": "None",
"description": "Make a Raster or Raster Dataset into a Function Raster Dataset.",
"help": ""
}
]}
Mensuration Capabilities: Basic
Inspection Capabilities:
Has Histograms: true
Has Colormap: false
Has Multi Dimensions : false
Rendering Rule:
Min Scale: 0
Max Scale: 0
Resampling: false
Copyright Text:
Service Data Type: esriImageServiceDataTypeGeneric
Min Values: 1.000001311302185
Max Values: 10
Mean Values: 1.9486643956764924
Standard Deviation Values: 2.697863253856959
Object ID Field:
Fields:
None
Default Mosaic Method: Center
Allowed Mosaic Methods:
SortField:
SortValue: null
Mosaic Operator: First
Default Compression Quality: 75
Default Resampling Method: Bilinear
Max Record Count: null
Max Image Height: 4100
Max Image Width: 15000
Max Download Image Count: null
Max Mosaic Image Count: null
Allow Raster Function: true
Allow Copy: true
Allow Analysis: true
Allow Compute TiePoints: false
Supports Statistics: false
Supports Advanced Queries: false
Use StandardizedQueries: true
Raster Type Infos:
Name: Raster Dataset
Description: Supports all ArcGIS Raster Datasets
Help:
Has Raster Attribute Table: false
Edit Fields Info: null
Ownership Based AccessControl For Rasters: null
Child Resources:
Info
Histograms
Statistics
Key Properties
Legend
Raster Function Infos
Supported Operations:
Export Image
Identify
Measure
Compute Histograms
Compute Statistics Histograms
Get Samples
Compute Class Statistics
Query Boundary
Compute Pixel Location
Compute Angles
Validate
Project