View In:
ArcGIS JavaScript
ArcGIS Online Map Viewer
ArcGIS Earth
Service Description: Colombia/BirdFriendlyRanching
Name: Colombia/BirdFriendlyRanching
Description:
Single Fused Map Cache: false
Extent:
XMin: -9353305.443289854
YMin: -475729.59807536774
XMax: -7238499.917224115
YMax: 1520586.8240476802
Spatial Reference: 102100
(3857)
LatestVCSWkid(0)
Initial Extent:
XMin: -9353305.443289854
YMin: -475729.59807536774
XMax: -7238499.917224115
YMax: 1520586.8240476802
Spatial Reference: 102100
(3857)
LatestVCSWkid(0)
Full Extent:
XMin: -9353305.443289854
YMin: -475729.59807536774
XMax: -7238499.917224115
YMax: 1520586.8240476802
Spatial Reference: 102100
(3857)
LatestVCSWkid(0)
Pixel Size X: 299.97241504478563
Pixel Size Y: 299.9724150447856
Band Count: 1
Pixel Type: S8
RasterFunction Infos: {"rasterFunctionInfos": [{
"name": "None",
"description": "Make a Raster or Raster Dataset into a Function Raster Dataset.",
"help": ""
}]}
Mensuration Capabilities: Basic
Inspection Capabilities:
Has Histograms: true
Has Colormap: false
Has Multi Dimensions : false
Rendering Rule:
Min Scale: 0
Max Scale: 0
Copyright Text:
Service Data Type: esriImageServiceDataTypeGeneric
Min Values: 0
Max Values: 127
Mean Values: 10.522938869039395
Standard Deviation Values: 11.748782635837616
Object ID Field: OBJECTID
Fields:
-
OBJECTID
(
type: esriFieldTypeOID, alias: OBJECTID
)
-
Shape
(
type: esriFieldTypeGeometry, alias: Shape
)
-
Name
(
type: esriFieldTypeString, alias: Name, length: 200
)
-
MinPS
(
type: esriFieldTypeDouble, alias: MinPS
)
-
MaxPS
(
type: esriFieldTypeDouble, alias: MaxPS
)
-
LowPS
(
type: esriFieldTypeDouble, alias: LowPS
)
-
HighPS
(
type: esriFieldTypeDouble, alias: HighPS
)
-
Category
(
type: esriFieldTypeInteger, alias: Category
, Coded Values:
[0: Unknown]
, [1: Primary]
, [2: Overview]
, ...6 more...
)
-
Tag
(
type: esriFieldTypeString, alias: Tag, length: 100
)
-
GroupName
(
type: esriFieldTypeString, alias: GroupName, length: 100
)
-
ProductName
(
type: esriFieldTypeString, alias: ProductName, length: 100
)
-
CenterX
(
type: esriFieldTypeDouble, alias: CenterX
)
-
CenterY
(
type: esriFieldTypeDouble, alias: CenterY
)
-
ZOrder
(
type: esriFieldTypeInteger, alias: ZOrder
)
-
Title
(
type: esriFieldTypeString, alias: Title, length: 1024
)
-
Description
(
type: esriFieldTypeString, alias: Description, length: 1024
)
-
Url
(
type: esriFieldTypeString, alias: Url, length: 1024
)
-
InputRanges
(
type: esriFieldTypeString, alias: InputRanges, length: 2048
)
-
NoDataRanges
(
type: esriFieldTypeString, alias: NoDataRanges, length: 256
)
-
RangeLabels
(
type: esriFieldTypeString, alias: RangeLabels, length: 1024
)
-
NoDataRangeLabels
(
type: esriFieldTypeString, alias: NoDataRangeLabels, length: 1024
)
-
OutputValues
(
type: esriFieldTypeString, alias: OutputValues, length: 256
)
-
Metadata
(
type: esriFieldTypeString, alias: Metadata, length: 1024
)
-
dataset_id
(
type: esriFieldTypeString, alias: dataset_id, length: 1024
)
-
Shape_Length
(
type: esriFieldTypeDouble, alias: Shape_Length
)
-
Shape_Area
(
type: esriFieldTypeDouble, alias: Shape_Area
)
Default Mosaic Method: Northwest
Allowed Mosaic Methods: NorthWest,Center,LockRaster,ByAttribute,Nadir,Viewpoint,Seamline,None
SortField:
SortValue: null
Mosaic Operator: First
Default Compression Quality: 75
Default Resampling Method: Nearest
Max Record Count: 1000
Max Image Height: 4100
Max Image Width: 15000
Max Download Image Count: 20
Max Mosaic Image Count: 20
Allow Raster Function: true
Allow Copy: true
Allow Analysis: true
Allow Compute TiePoints: false
Supports Statistics: true
Supports Advanced Queries: true
Use StandardizedQueries: true
Raster Type Infos:
Name: Raster Dataset
Description: Supports all ArcGIS Raster Datasets
Help:
Has Raster Attribute Table: false
Edit Fields Info: null
Ownership Based AccessControl For Rasters: null
Child Resources:
Info
Histograms
Statistics
Key Properties
Legend
Raster Function Infos
Supported Operations:
Export Image
Query
Identify
Measure
Compute Histograms
Compute Statistics Histograms
Get Samples
Compute Class Statistics
Query GPS Info
Find Images
Image to Map
Map to Image
Measure from Image
Image to Map Multiray
Query Boundary
Compute Pixel Location
Compute Angles
Validate
Project