View In:
ArcGIS JavaScript
ArcGIS Online Map Viewer
ArcGIS Earth
Service Description: Climate/subset_rsts
Name: Climate/subset_rsts
Description:
Single Fused Map Cache: false
Extent:
XMin: -5546387
YMin: -2914819
XMax: 5722613
YMax: 5915181
Spatial Reference: PROJCS["Albers_Conic_Equal_Area",GEOGCS["GCS_GRS_1980_IUGG_1980",DATUM["D_unknown",SPHEROID["GRS80",6378137.0,298.257222101]],PRIMEM["Greenwich",0.0],UNIT["Degree",0.0174532925199433]],PROJECTION["Albers"],PARAMETER["false_easting",0.0],PARAMETER["false_northing",0.0],PARAMETER["central_meridian",-96.0],PARAMETER["standard_parallel_1",20.0],PARAMETER["standard_parallel_2",60.0],PARAMETER["latitude_of_origin",40.0],UNIT["Meter",1.0]]
Initial Extent:
XMin: -5546387
YMin: -2914819
XMax: 5722613
YMax: 5915181
Spatial Reference: PROJCS["Albers_Conic_Equal_Area",GEOGCS["GCS_GRS_1980_IUGG_1980",DATUM["D_unknown",SPHEROID["GRS80",6378137.0,298.257222101]],PRIMEM["Greenwich",0.0],UNIT["Degree",0.0174532925199433]],PROJECTION["Albers"],PARAMETER["false_easting",0.0],PARAMETER["false_northing",0.0],PARAMETER["central_meridian",-96.0],PARAMETER["standard_parallel_1",20.0],PARAMETER["standard_parallel_2",60.0],PARAMETER["latitude_of_origin",40.0],UNIT["Meter",1.0]]
Full Extent:
XMin: -5546387
YMin: -2914819
XMax: 5722613
YMax: 5915181
Spatial Reference: PROJCS["Albers_Conic_Equal_Area",GEOGCS["GCS_GRS_1980_IUGG_1980",DATUM["D_unknown",SPHEROID["GRS80",6378137.0,298.257222101]],PRIMEM["Greenwich",0.0],UNIT["Degree",0.0174532925199433]],PROJECTION["Albers"],PARAMETER["false_easting",0.0],PARAMETER["false_northing",0.0],PARAMETER["central_meridian",-96.0],PARAMETER["standard_parallel_1",20.0],PARAMETER["standard_parallel_2",60.0],PARAMETER["latitude_of_origin",40.0],UNIT["Meter",1.0]]
Pixel Size X: 1000.0
Pixel Size Y: 1000.0
Band Count: 1
Pixel Type: F32
RasterFunction Infos: {"rasterFunctionInfos": [{
"name": "None",
"description": "",
"help": ""
}]}
Mensuration Capabilities: Basic
Inspection Capabilities:
Has Histograms: false
Has Colormap: false
Has Multi Dimensions : false
Rendering Rule:
Min Scale: 0
Max Scale: 0
Copyright Text:
Service Data Type: esriImageServiceDataTypeGeneric
Min Values: N/A
Max Values: N/A
Mean Values: N/A
Standard Deviation Values: N/A
Object ID Field: OBJECTID
Fields:
-
OBJECTID
(
type: esriFieldTypeOID, alias: OBJECTID, editable: false, nullable: false
)
-
Shape
(
type: esriFieldTypeGeometry, alias: Shape, editable: true, nullable: true
)
-
Name
(
type: esriFieldTypeString, alias: Name, editable: true, nullable: true, length: 200
)
-
MinPS
(
type: esriFieldTypeDouble, alias: MinPS, editable: true, nullable: true
)
-
MaxPS
(
type: esriFieldTypeDouble, alias: MaxPS, editable: true, nullable: true
)
-
LowPS
(
type: esriFieldTypeDouble, alias: LowPS, editable: true, nullable: true
)
-
HighPS
(
type: esriFieldTypeDouble, alias: HighPS, editable: true, nullable: true
)
-
Category
(
type: esriFieldTypeInteger, alias: Category, editable: false, nullable: true
, Coded Values:
[0: Unknown]
, [1: Primary]
, [2: Overview]
, ...6 more...
)
-
Tag
(
type: esriFieldTypeString, alias: Tag, editable: true, nullable: true, length: 100
)
-
GroupName
(
type: esriFieldTypeString, alias: GroupName, editable: true, nullable: true, length: 100
)
-
ProductName
(
type: esriFieldTypeString, alias: ProductName, editable: true, nullable: true, length: 100
)
-
CenterX
(
type: esriFieldTypeDouble, alias: CenterX, editable: true, nullable: true
)
-
CenterY
(
type: esriFieldTypeDouble, alias: CenterY, editable: true, nullable: true
)
-
ZOrder
(
type: esriFieldTypeInteger, alias: ZOrder, editable: true, nullable: true
)
-
Shape_Length
(
type: esriFieldTypeDouble, alias: Shape_Length, editable: false, nullable: true
)
-
Shape_Area
(
type: esriFieldTypeDouble, alias: Shape_Area, editable: false, nullable: true
)
Default Mosaic Method: Northwest
Allowed Mosaic Methods: NorthWest,Center,LockRaster,ByAttribute,Nadir,Viewpoint,Seamline,None
SortField:
SortValue: null
Mosaic Operator: First
Default Compression Quality: 75
Default Resampling Method: Bilinear
Max Record Count: 1000
Max Image Height: 4100
Max Image Width: 11269
Max Download Image Count: 20
Max Mosaic Image Count: 20
Allow Raster Function: true
Allow Copy: true
Allow Analysis: true
Allow Compute TiePoints: false
Supports Statistics: true
Supports Advanced Queries: true
Use StandardizedQueries: true
Raster Type Infos:
Name: Raster Dataset
Description: Supports all ArcGIS Raster Datasets
Help:
Has Raster Attribute Table: false
Edit Fields Info: null
Ownership Based AccessControl For Rasters: null
Child Resources:
Info
Statistics
Key Properties
Legend
Raster Function Infos
Supported Operations:
Export Image
Query
Identify
Download Rasters
Get Image Url
Add Rasters
Update Raster
Delete Rasters
Measure
Compute Histograms
Compute Statistics Histograms
Get Samples
Compute Class Statistics
Query GPS Info
Find Images
Image to Map
Map to Image
Measure from Image
Image to Map Multiray
Query Boundary
Compute Pixel Location
Compute Angles
Validate
Project