View In:
ArcGIS JavaScript
ArcGIS Online Map Viewer
ArcGIS Earth
Service Description: AverageSoilCarbon_0_10cm
Name: AverageSoilCarbon_0_10cm
Description:
Single Fused Map Cache: false
Extent:
XMin: -374495.84375
YMin: -616153.3125
XMax: 566724.15625
YMax: 592636.6875
Spatial Reference: 0
(0)
LatestVCSWkid(0)
Initial Extent:
XMin: -374495.84375
YMin: -616153.3125
XMax: 566724.15625
YMax: 592636.6875
Spatial Reference: 0
(0)
LatestVCSWkid(0)
Full Extent:
XMin: -374495.84375
YMin: -616153.3125
XMax: 566724.15625
YMax: 592636.6875
Spatial Reference: 0
(0)
LatestVCSWkid(0)
Pixel Size X: 270.0
Pixel Size Y: 270.0
Band Count: 1
Pixel Type: F32
RasterFunction Infos: {"rasterFunctionInfos": [{
"name": "None",
"description": "",
"help": ""
}]}
Mensuration Capabilities: Basic
Inspection Capabilities:
Has Histograms: true
Has Colormap: false
Has Multi Dimensions : false
Rendering Rule:
Min Scale: 0
Max Scale: 0
Copyright Text:
Service Data Type: esriImageServiceDataTypeGeneric
Min Values: 6.2365140914917
Max Values: 36.749282836914
Mean Values: 12.029150087713
Standard Deviation Values: 3.3911719730684
Object ID Field:
Fields:
None
Default Mosaic Method: Center
Allowed Mosaic Methods:
SortField:
SortValue: null
Mosaic Operator: First
Default Compression Quality: 75
Default Resampling Method: Bilinear
Max Record Count: null
Max Image Height: 4100
Max Image Width: 15000
Max Download Image Count: null
Max Mosaic Image Count: null
Allow Raster Function: true
Allow Copy: true
Allow Analysis: true
Allow Compute TiePoints: false
Supports Statistics: false
Supports Advanced Queries: false
Use StandardizedQueries: true
Raster Type Infos:
Name: Raster Dataset
Description: Supports all ArcGIS Raster Datasets
Help:
Has Raster Attribute Table: false
Edit Fields Info: null
Ownership Based AccessControl For Rasters: null
Child Resources:
Info
Histograms
Statistics
Key Properties
Legend
Raster Function Infos
Supported Operations:
Export Image
Identify
Measure
Compute Histograms
Compute Statistics Histograms
Get Samples
Compute Class Statistics
Query Boundary
Compute Pixel Location
Compute Angles
Validate
Project