View In:
ArcGIS JavaScript
ArcGIS Online Map Viewer
ArcGIS Earth
Service Description: AlasSeguras2/AlasSeguras2_MultiBand_Clip_tif
Name: AlasSeguras2/AlasSeguras2_MultiBand_Clip_tif
Description:
Single Fused Map Cache: false
Extent:
XMin: -9096535.246175572
YMin: -9195497.346555881
XMax: 8368464.753824428
YMax: 7721502.653444119
Spatial Reference: 0
(0)
LatestVCSWkid(0)
Initial Extent:
XMin: -9096535.246175572
YMin: -9195497.346555881
XMax: 8368464.753824428
YMax: 7721502.653444119
Spatial Reference: 0
(0)
LatestVCSWkid(0)
Full Extent:
XMin: -9096535.246175572
YMin: -9195497.346555881
XMax: 8368464.753824428
YMax: 7721502.653444119
Spatial Reference: 0
(0)
LatestVCSWkid(0)
Pixel Size X: 1000.0
Pixel Size Y: 1000.0
Band Count: 42
Pixel Type: U8
RasterFunction Infos: {"rasterFunctionInfos": [{
"name": "None",
"description": "",
"help": ""
}]}
Mensuration Capabilities: Basic
Inspection Capabilities:
Has Histograms: true
Has Colormap: false
Has Multi Dimensions : false
Rendering Rule:
Min Scale: 0
Max Scale: 0
Copyright Text:
Service Data Type: esriImageServiceDataTypeGeneric
Min Values: 0, 0, 0, 0, 0, 0, 0, 0, 0, 0, 0, 0, 0, 0, 0, 0, 0, 0, 0, 0, 0, 0, 0, 0, 0, 0, 0, 0, 0, 0, 0, 0, 0, 0, 0, 0, 0, 0, 0, 0, 0, 0
Max Values: 255, 63, 66, 89, 73, 66, 73, 91, 100, 100, 100, 100, 100, 100, 100, 100, 100, 100, 100, 100, 100, 100, 100, 100, 100, 100, 100, 100, 100, 100, 100, 100, 100, 100, 100, 100, 100, 100, 100, 100, 100, 100
Mean Values: 7.6901859453231, 0.0012440794576094, 0.0093593955405866, 0.0081235982127324, 0.034510355293729, 0.016931509511558, 0.03469492798754, 0.0087389262687546, 0.025956766639618, 0.022592231812461, 0.058927349797491, 0.026708091530771, 0.18494281395858, 0.058261584349759, 0.12914030122411, 0.82586168968551, 3.5359001132507, 0.13489785370492, 0.0052407232150671, 1.1646915039511, 1.3121679056778, 0.51855033757128, 0.39320147147073, 0.058327584157789, 0.36409284846225, 0.27262625302112, 0.014055928338833, 1.4565436702706, 0.94667958435184, 3.0933152162158, 2.0540825780457, 0.077541651336521, 0.018750714680608, 0.011254490335011, 0.077566358956929, 0.070232934137743, 0.006274043285821, 0.0032177444849944, 0.1115857061407, 0.0016628567008279, 0.33016142994573, 2.6951362558429
Standard Deviation Values: 37.213973406311, 0.072670459509106, 0.26221973837806, 0.33900914816259, 0.97495234469588, 0.37203819947624, 0.98639419882054, 0.32078875183325, 0.82971496115601, 1.0972462180769, 1.2541244427983, 1.2904304255089, 3.3269948939657, 2.4130404146023, 3.5912884802895, 9.0500895970901, 18.468552267806, 3.6703661922372, 0.72390942672263, 10.729056085482, 11.379587268148, 7.1823491615993, 6.2582377617417, 2.4144059990745, 6.0230159693294, 5.2142401479317, 1.1854936817665, 11.980519523354, 9.6835818020576, 17.313662917171, 14.184110943167, 2.7835503322483, 1.3692041064384, 1.0608121293385, 2.7839934234649, 2.6492188985717, 0.79206373928165, 0.56724253693272, 3.3385804291687, 0.4077780101279, 1.8327740122933, 15.146604690934
Object ID Field:
Fields:
None
Default Mosaic Method: Center
Allowed Mosaic Methods:
SortField:
SortValue: null
Mosaic Operator: First
Default Compression Quality: 75
Default Resampling Method: Nearest
Max Record Count: null
Max Image Height: 4100
Max Image Width: 15000
Max Download Image Count: null
Max Mosaic Image Count: null
Allow Raster Function: true
Allow Copy: true
Allow Analysis: true
Allow Compute TiePoints: false
Supports Statistics: false
Supports Advanced Queries: false
Use StandardizedQueries: true
Raster Type Infos:
Name: Raster Dataset
Description: Supports all ArcGIS Raster Datasets
Help:
Has Raster Attribute Table: false
Edit Fields Info: null
Ownership Based AccessControl For Rasters: null
Child Resources:
Info
Histograms
Statistics
Key Properties
Legend
Raster Function Infos
Supported Operations:
Export Image
Identify
Measure
Compute Histograms
Compute Statistics Histograms
Get Samples
Compute Class Statistics
Query Boundary
Compute Pixel Location
Compute Angles
Validate
Project