View In:
ArcGIS JavaScript
ArcGIS Online Map Viewer
ArcGIS Earth
Service Description: AlasSeguras2/AlasSeguras2_CompositeClip
Name: AlasSeguras2/AlasSeguras2_CompositeClip
Description:
Single Fused Map Cache: false
Extent:
XMin: -4507535.246175572
YMin: -8319497.346555881
XMax: 8368464.753824428
YMax: 4085502.653444119
Spatial Reference: 0
(0)
LatestVCSWkid(0)
Initial Extent:
XMin: -4507535.246175572
YMin: -8319497.346555881
XMax: 8368464.753824428
YMax: 4085502.653444119
Spatial Reference: 0
(0)
LatestVCSWkid(0)
Full Extent:
XMin: -4507535.246175572
YMin: -8319497.346555881
XMax: 8368464.753824428
YMax: 4085502.653444119
Spatial Reference: 0
(0)
LatestVCSWkid(0)
Pixel Size X: 1000.0
Pixel Size Y: 1000.0
Band Count: 42
Pixel Type: U8
RasterFunction Infos: {"rasterFunctionInfos": [{
"name": "None",
"description": "",
"help": ""
}]}
Mensuration Capabilities: Basic
Inspection Capabilities:
Has Histograms: true
Has Colormap: false
Has Multi Dimensions : false
Rendering Rule:
Min Scale: 0
Max Scale: 0
Copyright Text:
Service Data Type: esriImageServiceDataTypeGeneric
Min Values: 0, 0, 0, 0, 0, 0, 0, 0, 0, 0, 0, 0, 0, 0, 0, 0, 0, 0, 0, 0, 0, 0, 0, 0, 0, 0, 0, 0, 0, 0, 0, 0, 0, 0, 0, 0, 0, 0, 0, 0, 0, 0
Max Values: 100, 63, 66, 89, 73, 66, 73, 91, 100, 100, 100, 100, 100, 100, 100, 100, 100, 100, 100, 100, 100, 100, 100, 100, 100, 100, 100, 100, 100, 100, 100, 100, 100, 100, 100, 100, 100, 100, 100, 100, 100, 100
Mean Values: 5.027634370391739, 0.1355830547186447, 1.0200115675506505, 0.8853311211376227, 3.7610293792179674, 1.845240484066589, 3.7811445973341615, 0.9523911927266114, 2.11393977984237, 1.8399293797574325, 4.995926448813755, 2.9086345833023124, 19.836801417267974, 0.10776965515738804, 0.2388779138977194, 1.5276417642677045, 6.540548804652541, 0.2495279752086662, 0.009694053808634969, 2.1543938968781577, 2.427189103793363, 0.9591910636400474, 0.7273263757023112, 0.10789173863017798, 0.6734825556490928, 0.5042917662273028, 0.026000023289770274, 2.6942488917637926, 1.7511252652811304, 5.721875192124932, 3.799549455639178, 0.1434330548703229, 0.03468422765424804, 0.020818049421643586, 0.1434787579139826, 0.12991371891426148, 0.011605442744166137, 0.005952038850341816, 0.20640621441188436, 0.0030758774452224282, 0.6107177456403985, 4.985341681589035
Standard Deviation Values: 17.56096142600121, 0.7465406409892025, 2.542180784049408, 3.427601827200274, 9.464458421048121, 3.422116988178216, 9.58495597148889, 3.211881321280918, 7.186945173692997, 9.731744041627058, 10.425030871963239, 13.151681651097126, 28.2384504776903, 3.281059475926121, 4.88167275441734, 12.26501072191273, 24.723998576812452, 4.989041337400078, 0.9845361406534582, 14.51888349511251, 15.389206117161077, 9.746746096118322, 8.49727217202577, 3.2829153664430653, 8.178916629416905, 7.08342196620919, 1.612242644281414, 16.19153833725963, 13.116634016032231, 23.226012720128118, 19.11853477090929, 3.7845386159310066, 1.8620472044188425, 1.442695936090992, 3.7851406482618843, 3.602012548325345, 1.0772230945260541, 0.7714716209906032, 4.538503943459615, 0.5545974084196874, 2.4580680006254316, 20.321236476992755
Object ID Field:
Fields:
None
Default Mosaic Method: Center
Allowed Mosaic Methods:
SortField:
SortValue: null
Mosaic Operator: First
Default Compression Quality: 75
Default Resampling Method: Nearest
Max Record Count: null
Max Image Height: 4100
Max Image Width: 15000
Max Download Image Count: null
Max Mosaic Image Count: null
Allow Raster Function: true
Allow Copy: true
Allow Analysis: true
Allow Compute TiePoints: false
Supports Statistics: false
Supports Advanced Queries: false
Use StandardizedQueries: true
Raster Type Infos:
Name: Raster Dataset
Description: Supports all ArcGIS Raster Datasets
Help:
Has Raster Attribute Table: false
Edit Fields Info: null
Ownership Based AccessControl For Rasters: null
Child Resources:
Info
Histograms
Statistics
Key Properties
Legend
Raster Function Infos
Supported Operations:
Export Image
Identify
Measure
Compute Histograms
Compute Statistics Histograms
Get Samples
Compute Class Statistics
Query Boundary
Compute Pixel Location
Compute Angles
Validate
Project