{
 "currentVersion": 11.5,
 "serviceDescription": "Imagery/Bobelaine_Sanctuary_Elevation_Ft",
 "serviceItemId": "f8afd4f9a7e242eeb0a8cab6f0534408",
 "name": "Imagery/Bobelaine_Sanctuary_Elevation_Ft",
 "description": "",
 "extent": {
  "xmin": 6666771.994632703,
  "ymin": 2082190.601884951,
  "xmax": 6683838.994632703,
  "ymax": 2118442.601884951,
  "spatialReference": {
   "wkid": 103004,
   "latestWkid": 6418
  }
 },
 "initialExtent": {
  "xmin": 6666771.994632703,
  "ymin": 2082190.601884951,
  "xmax": 6683838.994632703,
  "ymax": 2118442.601884951,
  "spatialReference": {
   "wkid": 103004,
   "latestWkid": 6418
  }
 },
 "fullExtent": {
  "xmin": 6666771.994632703,
  "ymin": 2082190.601884951,
  "xmax": 6683838.994632703,
  "ymax": 2118442.601884951,
  "spatialReference": {
   "wkid": 103004,
   "latestWkid": 6418
  }
 },
 "sortableFields": "",
 "bandCount": 1,
 "pixelType": "F32",
 "minValues": [
  -11.402997970581055
 ],
 "maxValues": [
  66.06016540527344
 ],
 "meanValues": [
  35.068621525869595
 ],
 "stdvValues": [
  7.896543362559206
 ],
 "serviceProperties": "Center<\/MosaicMethod>First<\/MosaicOperator>true<\/SortAscending><\/LockImageID><\/TileOrderField>0<\/TileOrderBase>0.000000<\/AvgImageSpacingX>0.000000<\/AvgImageSpacingY>0.0<\/ViewPointX>0.0<\/ViewPointY>0.0<\/ViewPointDefShiftX>0.0<\/ViewPointDefShiftY>None<\/CompressionMethod>75<\/CompressionQuality>0.010000<\/CompressionTolerance>Bilinear<\/SamplingMethod><\/ImageServiceProperties><\/ImageServer>",
 "allowedFields": "",
 "hasMultidimensions": false,
 "pixelSizeX": 3,
 "pixelSizeY": 3,
 "meanPixelSize": 0.9144018288036577,
 "datasetFormat": "FGDBR",
 "uncompressedSize": 274983504,
 "blockWidth": 128,
 "blockHeight": 128,
 "compressionType": "NONE",
 "bandNames": [
  "Band_1"
 ],
 "allowCopy": true,
 "allowAnalysis": true,
 "itemAccess": false,
 "inspectionCapabilities": "",
 "minPixelSize": 0,
 "maxPixelSize": 0,
 "copyrightText": "",
 "serviceDataType": "esriImageServiceDataTypeGeneric",
 "serviceSourceType": "esriImageServiceSourceTypeDataset",
 "objectIdField": "",
 "fields": [],
 "capabilities": "Image,Metadata,Mensuration",
 "defaultMosaicMethod": "Center",
 "allowedMosaicMethods": "",
 "sortField": "",
 "sortValue": null,
 "sortAscending": true,
 "mosaicOperator": "First",
 "defaultCompressionQuality": 75,
 "defaultResamplingMethod": "Bilinear",
 "maxImageHeight": 4100,
 "maxImageWidth": 15000,
 "allowRasterFunction": true,
 "rasterFunctionInfos": [
  {
   "name": "None",
   "description": "",
   "help": ""
  }
 ],
 "rasterTypeInfos": [
  {
   "name": "Raster Dataset",
   "description": "Supports all ArcGIS Raster Datasets",
   "help": ""
  }
 ],
 "mensurationCapabilities": "Basic",
 "hasHistograms": true,
 "hasColormap": false,
 "hasRasterAttributeTable": false,
 "minScale": 0,
 "maxScale": 0,
 "exportTilesAllowed": false,
 "supportsStatistics": false,
 "supportsAdvancedQueries": false,
 "editFieldsInfo": null,
 "ownershipBasedAccessControlForRasters": null,
 "allowComputeTiePoints": false,
 "useStandardizedQueries": true,
 "advancedQueryCapabilities": {
  "useStandardizedQueries": true,
  "supportsStatistics": false,
  "supportsOrderBy": false,
  "supportsDistinct": false,
  "supportsPagination": false
 },
 "spatialReference": {
  "wkid": 103004,
  "latestWkid": 6418
 }
}
