{
 "currentVersion": 11.5,
 "serviceDescription": "UMR/INBU_Top20_FF_C",
 "serviceItemId": "4358e40772b3443399658526865f426d",
 "name": "UMR/INBU_Top20_FF_C",
 "description": "",
 "extent": {
  "xmin": 123012.24643430495,
  "ymin": 4085175.3797783777,
  "xmax": 1111247.540551952,
  "ymax": 5302822.438601907,
  "spatialReference": {
   "wkid": 3722,
   "latestWkid": 3722
  }
 },
 "initialExtent": {
  "xmin": 123012.24643430495,
  "ymin": 4085175.3797783777,
  "xmax": 1111247.540551952,
  "ymax": 5302822.438601907,
  "spatialReference": {
   "wkid": 3722,
   "latestWkid": 3722
  }
 },
 "fullExtent": {
  "xmin": 123012.24643430495,
  "ymin": 4085175.3797783777,
  "xmax": 1111247.540551952,
  "ymax": 5302822.438601907,
  "spatialReference": {
   "wkid": 3722,
   "latestWkid": 3722
  }
 },
 "sortableFields": "",
 "bandCount": 1,
 "pixelType": "F32",
 "minValues": [
  0.9016996026039124
 ],
 "maxValues": [
  0.9971453547477722
 ],
 "meanValues": [
  0.9452288633898684
 ],
 "stdvValues": [
  0.026291270855439842
 ],
 "serviceProperties": "Center<\/MosaicMethod>First<\/MosaicOperator>true<\/SortAscending><\/LockImageID><\/TileOrderField>0<\/TileOrderBase>0.000000<\/AvgImageSpacingX>0.000000<\/AvgImageSpacingY>0.0<\/ViewPointX>0.0<\/ViewPointY>0.0<\/ViewPointDefShiftX>0.0<\/ViewPointDefShiftY>None<\/CompressionMethod>75<\/CompressionQuality>0.010000<\/CompressionTolerance>Bilinear<\/SamplingMethod><\/ImageServiceProperties><\/ImageServer>",
 "allowedFields": "",
 "hasMultidimensions": false,
 "pixelSizeX": 4411.764705882353,
 "pixelSizeY": 4411.764705882354,
 "meanPixelSize": 4411.764705882353,
 "datasetFormat": "FGDBR",
 "uncompressedSize": 247296,
 "blockWidth": 128,
 "blockHeight": 128,
 "compressionType": "NONE",
 "bandNames": [
  "Band_1"
 ],
 "allowCopy": true,
 "allowAnalysis": true,
 "itemAccess": false,
 "inspectionCapabilities": "",
 "minPixelSize": 0,
 "maxPixelSize": 0,
 "copyrightText": "",
 "serviceDataType": "esriImageServiceDataTypeGeneric",
 "serviceSourceType": "esriImageServiceSourceTypeDataset",
 "objectIdField": "",
 "fields": [],
 "capabilities": "Mensuration,Image,Metadata",
 "defaultMosaicMethod": "Center",
 "allowedMosaicMethods": "",
 "sortField": "",
 "sortValue": null,
 "sortAscending": true,
 "mosaicOperator": "First",
 "defaultCompressionQuality": 75,
 "defaultResamplingMethod": "Bilinear",
 "maxImageHeight": 4100,
 "maxImageWidth": 15000,
 "allowRasterFunction": true,
 "rasterFunctionInfos": [
  {
   "name": "None",
   "description": "",
   "help": ""
  }
 ],
 "rasterTypeInfos": [
  {
   "name": "Raster Dataset",
   "description": "Supports all ArcGIS Raster Datasets",
   "help": ""
  }
 ],
 "mensurationCapabilities": "Basic",
 "hasHistograms": true,
 "hasColormap": false,
 "hasRasterAttributeTable": false,
 "minScale": 0,
 "maxScale": 0,
 "exportTilesAllowed": false,
 "supportsStatistics": false,
 "supportsAdvancedQueries": false,
 "editFieldsInfo": null,
 "ownershipBasedAccessControlForRasters": null,
 "allowComputeTiePoints": false,
 "useStandardizedQueries": true,
 "advancedQueryCapabilities": {
  "useStandardizedQueries": true,
  "supportsStatistics": false,
  "supportsOrderBy": false,
  "supportsDistinct": false,
  "supportsPagination": false
 },
 "spatialReference": {
  "wkid": 3722,
  "latestWkid": 3722
 },
 "resampling": false
}
