<?xml version="1.0" encoding="UTF-8" standalone="no"?>
<metadata xml:lang="en">
<Esri>
<CreaDate>20190619</CreaDate>
<CreaTime>15050900</CreaTime>
<ArcGISFormat>1.0</ArcGISFormat>
<SyncOnce>FALSE</SyncOnce>
<DataProperties>
<lineage>
<Process Date="20180531" Time="135516" ToolSource="c:\program files (x86)\arcgis\desktop10.5\ArcToolbox\Toolboxes\Data Management Tools.tbx\DefineProjection">DefineProjection V:\nroc\GIS\AvianModels\Data_2018_Updated\geotiffs_2018_05_24\LETE_annual_bootstrap_abundance_QUANT_50.tif PROJCS['All_Atlantic_projection',GEOGCS['GCS_North_American_1983',DATUM['D_North_American_1983',SPHEROID['GRS_1980',6378137.0,298.257222101]],PRIMEM['Greenwich',0.0],UNIT['Degree',0.0174532925199433],METADATA['North America - NAD83',167.65,14.93,-47.74,86.45,0.0,0.0174532925199433,0.0,1350]],PROJECTION['Hotine_Oblique_Mercator_Azimuth_Center'],PARAMETER['False_Easting',0.0],PARAMETER['False_Northing',0.0],PARAMETER['Scale_Factor',0.9996],PARAMETER['Azimuth',40.0],PARAMETER['Longitude_Of_Center',-75.0],PARAMETER['Latitude_Of_Center',35.0],UNIT['Meter',1.0]]</Process>
<Process Date="20180531" Time="135516" ToolSource="c:\program files (x86)\arcgis\desktop10.5\ArcToolbox\Toolboxes\Data Management Tools.tbx\CalculateStatistics">CalculateStatistics V:\nroc\GIS\AvianModels\Data_2018_Updated\geotiffs_2018_05_24\LETE_annual_bootstrap_abundance_QUANT_50.tif 1 1 # OVERWRITE "Feature Set"</Process>
<Process Date="20201205" Name="Copy Raster" Time="220527" ToolSource="c:\program files\arcgis\pro\Resources\ArcToolbox\toolboxes\Data Management Tools.tbx\CopyRaster">CopyRaster MDAT\LETE_annual_bootstrap_abundance_QUANT_50.tif D:\ArcGIS\Projects\CEIToolkit\OffshoreToolkitData.gdb\MDAT_MDAT_LETE_annual_bootstrap_abundance_QUANT_50 # # -1.7e+308 NONE NONE # NONE NONE "Esri Grid format" NONE CURRENT_SLICE NO_TRANSPOSE</Process>
<Process Date="20210108" Time="144604" ToolSource="c:\program files\arcgis\pro\Resources\ArcToolbox\toolboxes\Data Management Tools.tbx\CalculateStatistics">CalculateStatistics C:\Users\rhobbs\Downloads\OffshoreToolkitData.gdb\OffshoreToolkitData.gdb\MDAT_MDAT_LETE_annual_bootstrap_abundance_QUANT_50 1 1 # OVERWRITE "Feature Set"</Process>
</lineage>
<itemProps>
<itemName Sync="TRUE">MDAT_MDAT_LETE_annual_bootstrap_abundance_QUANT_50</itemName>
<itemLocation>
<linkage Sync="TRUE">file://\\DESKTOP-SMOQNTC\D$\ArcGIS\Projects\CEIToolkit\OffshoreToolkitData.gdb</linkage>
<protocol Sync="TRUE">Local Area Network</protocol>
</itemLocation>
<nativeExtBox>
<westBL Sync="TRUE">-9686829.441404</westBL>
<eastBL Sync="TRUE">-5818829.441404</eastBL>
<southBL Sync="TRUE">2639234.962486</southBL>
<northBL Sync="TRUE">7039234.962486</northBL>
<exTypeCode Sync="TRUE">1</exTypeCode>
</nativeExtBox>
<imsContentType Sync="TRUE">002</imsContentType>
</itemProps>
<coordRef>
<type Sync="TRUE">Projected</type>
<geogcsn Sync="TRUE">GCS_WGS_1984</geogcsn>
<csUnits Sync="TRUE">Linear Unit: Meter (1.000000)</csUnits>
<projcsn Sync="TRUE">WGS_1984_Web_Mercator_Auxiliary_Sphere</projcsn>
<peXml Sync="TRUE">&lt;ProjectedCoordinateSystem xsi:type='typens:ProjectedCoordinateSystem' xmlns:xsi='http://www.w3.org/2001/XMLSchema-instance' xmlns:xs='http://www.w3.org/2001/XMLSchema' xmlns:typens='http://www.esri.com/schemas/ArcGIS/2.6.0'&gt;&lt;WKT&gt;PROJCS[&amp;quot;WGS_1984_Web_Mercator_Auxiliary_Sphere&amp;quot;,GEOGCS[&amp;quot;GCS_WGS_1984&amp;quot;,DATUM[&amp;quot;D_WGS_1984&amp;quot;,SPHEROID[&amp;quot;WGS_1984&amp;quot;,6378137.0,298.257223563]],PRIMEM[&amp;quot;Greenwich&amp;quot;,0.0],UNIT[&amp;quot;Degree&amp;quot;,0.0174532925199433]],PROJECTION[&amp;quot;Mercator_Auxiliary_Sphere&amp;quot;],PARAMETER[&amp;quot;False_Easting&amp;quot;,0.0],PARAMETER[&amp;quot;False_Northing&amp;quot;,0.0],PARAMETER[&amp;quot;Central_Meridian&amp;quot;,0.0],PARAMETER[&amp;quot;Standard_Parallel_1&amp;quot;,0.0],PARAMETER[&amp;quot;Auxiliary_Sphere_Type&amp;quot;,0.0],UNIT[&amp;quot;Meter&amp;quot;,1.0],AUTHORITY[&amp;quot;EPSG&amp;quot;,3857]]&lt;/WKT&gt;&lt;XOrigin&gt;-20037700&lt;/XOrigin&gt;&lt;YOrigin&gt;-30241100&lt;/YOrigin&gt;&lt;XYScale&gt;148923141.92838538&lt;/XYScale&gt;&lt;ZOrigin&gt;0&lt;/ZOrigin&gt;&lt;ZScale&gt;1&lt;/ZScale&gt;&lt;MOrigin&gt;0&lt;/MOrigin&gt;&lt;MScale&gt;1&lt;/MScale&gt;&lt;XYTolerance&gt;0.001&lt;/XYTolerance&gt;&lt;ZTolerance&gt;0.001&lt;/ZTolerance&gt;&lt;MTolerance&gt;0.001&lt;/MTolerance&gt;&lt;HighPrecision&gt;true&lt;/HighPrecision&gt;&lt;WKID&gt;102100&lt;/WKID&gt;&lt;LatestWKID&gt;3857&lt;/LatestWKID&gt;&lt;/ProjectedCoordinateSystem&gt;</peXml>
</coordRef>
<RasterProperties>
<General>
<PixelDepth Sync="TRUE">64</PixelDepth>
<HasColormap Sync="TRUE">FALSE</HasColormap>
<CompressionType Sync="TRUE">LZW</CompressionType>
<NumBands Sync="TRUE">1</NumBands>
<Format Sync="TRUE">TIFF</Format>
<HasPyramids Sync="TRUE">FALSE</HasPyramids>
<SourceType Sync="TRUE">continuous</SourceType>
<PixelType Sync="TRUE">double precision</PixelType>
<NoDataValue Sync="TRUE">-1.7e+308</NoDataValue>
</General>
</RasterProperties>
<copyHistory>
<copy date="20190619" dest="\\mgelnet.env.duke.edu\data\nroc\GIS\All_Product_Zip_For_Download\MPK_v3\Avian_Abundance\commondata\raster_data\LETE_annual_bootstrap_abundance_QUANT_50.tif" source="V:\nroc\GIS\AvianModels\Data_2018_Updated\geotiffs_2018_05_24\LETE_annual_bootstrap_abundance_QUANT_50.tif" time="15050900"/>
</copyHistory>
</DataProperties>
<SyncDate>20201205</SyncDate>
<SyncTime>22052500</SyncTime>
<ModDate>20201205</ModDate>
<ModTime>22052500</ModTime>
<scaleRange>
<minScale>150000000</minScale>
<maxScale>5000</maxScale>
</scaleRange>
<ArcGISstyle>Item Description</ArcGISstyle>
</Esri>
<mdChar>
<CharSetCd value="004"/>
</mdChar>
<distInfo>
<distributor>
<distorCont>
<rpOrgName>Marine Geospatial Ecology Lab at Duke University, on behalf of MDAT and NCCOS</rpOrgName>
<rpCntInfo>
<cntAddress>
<eMailAdd>marinelife_data@duke.edu</eMailAdd>
</cntAddress>
</rpCntInfo>
</distorCont>
</distributor>
<distTranOps>
<onLineSrc>
<linkage>http://mgelmaps.env.duke.edu/mdat/rest/services/MDAT</linkage>
<orName>At-Sea Abundance of Marine Birds developed by the NOAA National Centers for Coastal Ocean Science (NCCOS), prepared by the Marine-life Data and Analysis Team (MDAT)</orName>
<orDesc>Data Collection URL</orDesc>
</onLineSrc>
</distTranOps>
<distFormat>
<formatName Sync="TRUE">File Geodatabase Raster Dataset</formatName>
</distFormat>
</distInfo>
<dataIdInfo>
<idPurp>NCCOS conducted this assessment in partnership with the Bureau of Ocean Energy Management (BOEM) to inform BOEM’s renewable energy policy decisions in the...</idPurp>
<idAbs>&lt;div style='text-align:Left;'&gt;&lt;div&gt;&lt;div&gt;&lt;p style='margin:0 0 0 0;'&gt;&lt;span&gt;In 2014, the Marine Geospatial Ecology Lab (MGEL) of Duke University began work with the Northeast Regional Ocean Council (NROC), the NOAA National Centers for Coastal Ocean Science (NCCOS), the NOAA Northeast Fisheries Science Center (NEFSC) and Loyola University Chicago, as part of the Marine-life Data and Analysis Team (MDAT), to characterize and map marine life in the Northeast region in support of the Regional Ocean Plan. In 2015, the Mid-Atlantic Regional Council on the Ocean (MARCO) contracted with MDAT to build upon and expand this effort into the Mid-Atlantic planning area, and in support of the Mid-Atlantic Regional Ocean Plan. These research groups collaborated to produce “base layer” predictive model products with associated uncertainty products for cetacean species or species guilds and avian species, and three geospatial products for fish species. Periodic updates to these base layer models and data are produced by the individual institutions in the MDAT team based on schedules set by the funders of each modeling effort.&lt;/span&gt;&lt;/p&gt;&lt;p style='margin:0 0 0 0;'&gt;&lt;span /&gt;&lt;/p&gt;&lt;p style='margin:0 0 0 0;'&gt;&lt;span&gt;MDAT member NCCOS developed a comprehensive synthesis of models and data on marine and coastal birds as part of a 5-year BOEM funded project “Integrative Statistical Modeling and Predictive Mapping of Marine Bird Distributions and Abundance on the Atlantic Outer Continental Shelf.” In 2017, NCCOS updated the source data, covariates, and modeling methodology to produce new models, including additional species. &lt;/span&gt;&lt;/p&gt;&lt;p style='margin:0 0 0 0;'&gt;&lt;span /&gt;&lt;/p&gt;&lt;p style='margin:0 0 0 0;'&gt;&lt;span&gt;&lt;span&gt;The NOAA report and the full set of model products for this project can be found here: &lt;/span&gt;&lt;/span&gt;&lt;/p&gt;&lt;p style='margin:0 0 0 0;'&gt;&lt;span&gt;https://coastalscience.noaa.gov/project/statistical-modeling-marine-bird-distributions/&lt;/span&gt;&lt;/p&gt;&lt;p style='margin:0 0 0 0;'&gt;&lt;span /&gt;&lt;/p&gt;&lt;p style='margin:0 0 0 0;'&gt;&lt;span&gt;MDAT compiled the NCCOS long-term average density model results, with two products characterizing model uncertainty. The individual species maps represent the results of predictive modeling applied to data from the Northwest Atlantic Seabird Catalog (US Fish and Wildlife Service) and the Eastern Canada Seabirds at Sea database (Canadian Wildlife Service, Environment and Climate Change Canada). The modeling framework enabled predictions beginning 1-2km offshore and extending to the US EEZ boundary along the entire US Atlantic coast. As a result, model predictions are not available for nearshore (0-2km) areas, embayments, or estuaries, such as Long Island Sound. &lt;/span&gt;&lt;/p&gt;&lt;p style='margin:0 0 0 0;'&gt;&lt;span /&gt;&lt;/p&gt;&lt;p style='margin:0 0 0 0;'&gt;&lt;span&gt;Density model results are the long-term average relative abundance of individuals per unit area. It is not possible to infer absolute density because of how the survey data were collected and compiled, and how the models were generated. &lt;/span&gt;&lt;/p&gt;&lt;p style='margin:0 0 0 0;'&gt;&lt;span /&gt;&lt;/p&gt;&lt;p style='margin:0 0 0 0;'&gt;&lt;span&gt;Relative density model results are predicted to the full extent of the study area, and a hatched mask delineating areas with no survey effort in the dataset is provided. Mid-points of survey transect segments (~4 km in length) were gridded at a 10 x 10 km resolution, and hatched areas indicate grid cells with no segment mid-points (i.e. minimal or no survey effort). Model results in these hatched areas should be interpreted with caution. See Winship et al. (2018) Section 2 for more details.&lt;/span&gt;&lt;/p&gt;&lt;p&gt;&lt;span&gt;The 90% Confidence Interval and the Coefficient of Variation are provided as two statistical measures of model uncertainty.&lt;/span&gt;&lt;/p&gt;&lt;/div&gt;&lt;/div&gt;&lt;/div&gt;</idAbs>
<idCitation>
<collTitle>MDAT_WS_AVIAN_MODEL_DATA_V2.0_2018_03_01</collTitle>
<resTitle Sync="TRUE">MDAT_MDAT_LETE_annual_bootstrap_abundance_QUANT_50</resTitle>
<presForm>
<PresFormCd Sync="TRUE" value="011"/>
</presForm>
</idCitation>
<resConst>
<Consts>
<useLimit>&lt;div style='text-align:Left;'&gt;&lt;div&gt;&lt;div&gt;&lt;p&gt;&lt;span style='font-style:italic;'&gt;&lt;span&gt;Please note: BOEM and NOAA make no warranty, expressed or implied, regarding these data, nor does the fact of distribution constitute such a warranty. BOEM and NOAA cannot assume liability for any damages caused by any errors or omissions in these data. If you use this dataset in a scientific publication or other formal publication, we request that you cite the Winship et al. (2018) and Curtice et al. (2018) publications.&lt;/span&gt;&lt;/span&gt;&lt;/p&gt;&lt;/div&gt;&lt;/div&gt;&lt;/div&gt;</useLimit>
</Consts>
</resConst>
<dataChar>
<CharSetCd value="004"/>
</dataChar>
<resMaint>
<maintFreq>
<MaintFreqCd value="010"/>
</maintFreq>
</resMaint>
<placeKeys>
<keyword>North Atlantic Ocean</keyword>
</placeKeys>
<idCredit>Principle Investigators:MDAT Project: Patrick N. Halpin (PI) – Marine Geospatial Ecology Lab at Duke University; Earvin Balderama (Co-I) - Loyola University Chicago; Michael Fogarty (Co-I) - NOAA/NEFSC; Arliss Winship (Co-I) - NOAA/NCCOSNCCOS Project: Arliss J. Winship, Brian P. Kinlan, Timothy P. White, Jeffery B. Leirness, John Christensen – US DOC; NOAA; NOS; National Centers for Coastal Ocean Science (NCCOS)Collaborators:David Bigger - US DOI, Bureau of Ocean Energy Management (BOEM)Mary Boatman - US DOI, Bureau of Ocean Energy Management (BOEM)James Woehr - US DOI, Bureau of Ocean Energy Management (BOEM)Allan O’Connell - US DOI, United States Geological Survey (USGS)Mark Wimer - US DOI, United States Geological Survey (USGS)Allison Sussman - US DOI, United States Geological Survey (USGS)Tim Jones - US DOI, United States Fish and Wildlife Service (USFWS)Kaycee Coleman - US DOI, United States Fish and Wildlife Service (USFWS)Kyle Detloff - US DOI, United States Fish and Wildlife Service (USFWS)Robert Fowler - US DOI, United States Fish and Wildlife Service (USFWS)Carina Gjerdrum – Canadian Wildlife Service (CWS), Environment and Climate Change Canada (ECC)Peter Miller – Plymouth Marine LaboratoryPeter Cornillon – University of Rhode IslandMichael Coyne - US DOC, NOAA, NOS, National Centers for Coastal Ocean Science (NCCOS) and CSS Inc.Matthew Poti - US DOC, NOAA, NOS, National Centers for Coastal Ocean Science (NCCOS) and CSS Inc.Robert Rankin - US DOC, NOAA, NOS, National Centers for Coastal Ocean Science (NCCOS) and CSS Inc.Zhifa Liu - US DOC, NOAA, NOS, National Centers for Coastal Ocean Science (NCCOS) and GAMA-1 TechnologiesAnd many additional data providers – listed in Appendix A of Winship et al. 2018 MDAT members:Earvin Balderama (Co-I, Loyola University Chicago)Jesse Cleary (Duke University)Corrie Curtice (Duke University)Michael Fogarty (Co-I, NOAA/NEFSC)Patrick N. Halpin (PI, Duke University)Brian Kinlan (NOAA/NCCOS)Charles Perretti (NOAA/NEFSC)Jason Roberts (Duke University)Emily Shumchenia (NROC)Arliss Winship (Co-I, NOAA/NCCOS)Methodology:See Winship et al. (2018) Section 2: Methods. Pp. 2-11. Datasets are listed in Table 1 of Curtice et al. (2018).MDAT Technical Report:Curtice, C., Cleary J., Shumchenia E., Halpin P.N. 2018. Marine-life Data and Analysis Team (MDAT) technical report on the methods and development of marine-life data to support regional ocean planning and management. Prepared on behalf of the Marine-life Data Analysis Team (MDAT). Accessed at: http://seamap.env.duke.edu/models/MDAT/MDAT-Technical-Report.pdf Corrie Curtice1, Jesse Cleary2, Emily Schumchenia3, Patrick Halpin21 Marine Geospatial Ecology Laboratory, Nicholas School of the Environment, Duke University Marine Lab, Beaufort, NC, US2 Marine Geospatial Ecology Laboratory, Duke University, Durham, NC, US3 Northeast Regional Ocean Council, USAvian Models:NCCOS/BOEM study:Winship, A.J., Kinlan, B.P., White, T.P., Leirness, J.B. and Christensen, J. (2018) Modeling At-Sea Density of Marine Birds to Support Atlantic Marine Renewable Energy Planning: Final Report. U.S. Department of the Interior, Bureau of Ocean Energy Management, Office of Renewable Energy Programs, Sterling, VA. OCS Study BOEM 2018-010. xxx+XXX pp.Arliss J. Winship1,2, Brian P. Kinlan1, Timothy P. White3, Jeffery B. Leirness1,2, John Christensen11 NOAA National Centers for Coastal Ocean Science, Silver Spring, MD, U.S.A.2 CSS, Inc, Fairfax, VA, U.S.A.3 Bureau of Ocean Energy Management, Sterling, VA, U.S.A.Resource Provider:Marine Geospatial Ecology Lab (MGEL) at Duke University (marinelife_data@duke.edu), on behalf of MDAT and NCCOS.</idCredit>
<tempKeys>
<keyword>Start: 1978-01-01</keyword>
<keyword>End: 2016-10-05</keyword>
</tempKeys>
<suppInfo>This data documentation describes numerous geospatial datasets archived together as a data collection, and is intended to provide dataset-level metadata for the purposes of discovery, use, and understanding.</suppInfo>
<dataExt>
<geoEle>
<GeoBndBox esriExtentType="search">
<westBL Sync="TRUE">-87.018269</westBL>
<eastBL Sync="TRUE">-52.271434</eastBL>
<northBL Sync="TRUE">53.302959</northBL>
<southBL Sync="TRUE">23.059659</southBL>
</GeoBndBox>
</geoEle>
</dataExt>
<envirDesc Sync="TRUE">Microsoft Windows 10 Version 10.0 (Build 18363) ; Esri ArcGIS 12.6.3.24783</envirDesc>
<dataLang>
<languageCode Sync="TRUE" value="eng"/>
<countryCode Sync="TRUE" value="USA"/>
</dataLang>
<spatRpType>
<SpatRepTypCd Sync="TRUE" value="002"/>
</spatRpType>
<searchKeys>
<keyword>DELETE</keyword>
</searchKeys>
</dataIdInfo>
<mdMaint>
<maintFreq>
<MaintFreqCd value="010"/>
</maintFreq>
</mdMaint>
<spatRepInfo>
<Georect>
<axisDimension type="002">
<dimSize Sync="TRUE">1200</dimSize>
<dimResol>
<value Sync="TRUE" uom="m">2000.000000</value>
</dimResol>
</axisDimension>
<axisDimension type="001">
<dimSize Sync="TRUE">1640</dimSize>
<dimResol>
<value Sync="TRUE" uom="m">2000.000000</value>
</dimResol>
</axisDimension>
<cellGeo>
<CellGeoCd Sync="TRUE" value="002"/>
</cellGeo>
<numDims Sync="TRUE">2</numDims>
<tranParaAv Sync="TRUE">1</tranParaAv>
<chkPtAv Sync="TRUE">0</chkPtAv>
<cornerPts>
<pos Sync="TRUE">-820443.174425 -1234728.484740</pos>
</cornerPts>
<cornerPts>
<pos Sync="TRUE">-820443.174425 2045271.515260</pos>
</cornerPts>
<cornerPts>
<pos Sync="TRUE">1579556.825575 2045271.515260</pos>
</cornerPts>
<cornerPts>
<pos Sync="TRUE">1579556.825575 -1234728.484740</pos>
</cornerPts>
<centerPt>
<pos Sync="TRUE">379556.825575 405271.515260</pos>
</centerPt>
<ptInPixel>
<PixOrientCd Sync="TRUE" value="001"/>
</ptInPixel>
</Georect>
</spatRepInfo>
<contInfo>
<ImgDesc>
<covDim>
<Band>
<valUnit>
<UOM type="length"/>
</valUnit>
<dimDescrp Sync="TRUE">Band_1</dimDescrp>
<maxVal Sync="TRUE">0.328723</maxVal>
<minVal Sync="TRUE">0.000124</minVal>
<bitsPerVal Sync="TRUE">64</bitsPerVal>
</Band>
</covDim>
<contentTyp>
<ContentTypCd Sync="TRUE" value="001"/>
</contentTyp>
</ImgDesc>
</contInfo>
<mdLang>
<languageCode Sync="TRUE" value="eng"/>
<countryCode Sync="TRUE" value="USA"/>
</mdLang>
<mdHrLv>
<ScopeCd Sync="TRUE" value="005"/>
</mdHrLv>
<mdHrLvName Sync="TRUE">dataset</mdHrLvName>
<refSysInfo>
<RefSystem>
<refSysID>
<identCode Sync="TRUE" code="3857"/>
<idCodeSpace Sync="TRUE">EPSG</idCodeSpace>
<idVersion Sync="TRUE">8.8(9.3.1.2)</idVersion>
</refSysID>
</RefSystem>
</refSysInfo>
<mdDateSt Sync="TRUE">20201205</mdDateSt>
<spdoinfo>
<rastinfo>
<rasttype Sync="TRUE">Pixel</rasttype>
<rowcount Sync="TRUE">2200</rowcount>
<colcount Sync="TRUE">1934</colcount>
<rastxsz Sync="TRUE">2000.000000</rastxsz>
<rastysz Sync="TRUE">2000.000000</rastysz>
<rastbpp Sync="TRUE">64</rastbpp>
<vrtcount Sync="TRUE">1</vrtcount>
<rastorig Sync="TRUE">Upper Left</rastorig>
<rastcmap Sync="TRUE">FALSE</rastcmap>
<rastcomp Sync="TRUE">LZ77</rastcomp>
<rastband Sync="TRUE">1</rastband>
<rastdtyp Sync="TRUE">pixel codes</rastdtyp>
<rastifor Sync="TRUE">FGDBR</rastifor>
<rastplyr Sync="TRUE">TRUE</rastplyr>
</rastinfo>
</spdoinfo>
<spref>
<horizsys>
<planar>
<planci>
<plance Sync="TRUE">row and column</plance>
<coordrep>
<absres Sync="TRUE">2000.000000</absres>
<ordres Sync="TRUE">2000.000000</ordres>
</coordrep>
</planci>
</planar>
</horizsys>
</spref>
</metadata>
