{
 "currentVersion": 11.5,
 "serviceDescription": "CADesertNaturalDimensions1000mPrioritization",
 "serviceItemId": "2bce7c30b0174f35b927180b4a7e40d9",
 "name": "CADesertNaturalDimensions1000mPrioritization",
 "description": "",
 "extent": {
  "xmin": 114686.74501601898,
  "ymin": -592854.1965590119,
  "xmax": 539686.745016019,
  "ymax": -68854.19655901194,
  "spatialReference": {
   "wkid": 3310,
   "latestWkid": 3310
  }
 },
 "initialExtent": {
  "xmin": 114686.74501601898,
  "ymin": -592854.1965590119,
  "xmax": 539686.745016019,
  "ymax": -68854.19655901194,
  "spatialReference": {
   "wkid": 3310,
   "latestWkid": 3310
  }
 },
 "fullExtent": {
  "xmin": 114686.74501601898,
  "ymin": -592854.1965590119,
  "xmax": 539686.745016019,
  "ymax": -68854.19655901194,
  "spatialReference": {
   "wkid": 3310,
   "latestWkid": 3310
  }
 },
 "sortableFields": "",
 "bandCount": 1,
 "pixelType": "F32",
 "minValues": [
  0.15376999974251
 ],
 "maxValues": [
  0.98441487550735
 ],
 "meanValues": [
  0.48014144371574
 ],
 "stdvValues": [
  0.12008013669874
 ],
 "serviceProperties": "Center<\/MosaicMethod>First<\/MosaicOperator>true<\/SortAscending><\/LockImageID><\/TileOrderField>0<\/TileOrderBase>0.000000<\/AvgImageSpacingX>0.000000<\/AvgImageSpacingY>0.0<\/ViewPointX>0.0<\/ViewPointY>0.0<\/ViewPointDefShiftX>0.0<\/ViewPointDefShiftY>None<\/CompressionMethod>75<\/CompressionQuality>0.010000<\/CompressionTolerance>Bilinear<\/SamplingMethod><\/ImageServiceProperties><\/ImageServer>",
 "allowedFields": "",
 "hasMultidimensions": false,
 "pixelSizeX": 1000,
 "pixelSizeY": 1000,
 "meanPixelSize": 1000,
 "datasetFormat": "TIFF",
 "uncompressedSize": 890800,
 "blockWidth": 128,
 "blockHeight": 128,
 "compressionType": "None",
 "bandNames": [
  "Band_1"
 ],
 "allowCopy": true,
 "allowAnalysis": true,
 "itemAccess": false,
 "inspectionCapabilities": "",
 "noDataValue": -3.4028234663852886E38,
 "noDataValues": [
  -3.4028234663852886E38
 ],
 "minPixelSize": 0,
 "maxPixelSize": 0,
 "copyrightText": "",
 "serviceDataType": "esriImageServiceDataTypeGeneric",
 "serviceSourceType": "esriImageServiceSourceTypeDataset",
 "objectIdField": "",
 "fields": [],
 "capabilities": "Image,Metadata,Mensuration",
 "defaultMosaicMethod": "Center",
 "allowedMosaicMethods": "",
 "sortField": "",
 "sortValue": null,
 "sortAscending": true,
 "mosaicOperator": "First",
 "defaultCompressionQuality": 75,
 "defaultResamplingMethod": "Bilinear",
 "maxImageHeight": 4100,
 "maxImageWidth": 15000,
 "allowRasterFunction": true,
 "rasterFunctionInfos": [
  {
   "name": "None",
   "description": "",
   "help": ""
  }
 ],
 "rasterTypeInfos": [
  {
   "name": "Raster Dataset",
   "description": "Supports all ArcGIS Raster Datasets",
   "help": ""
  }
 ],
 "mensurationCapabilities": "Basic",
 "hasHistograms": true,
 "hasColormap": false,
 "hasRasterAttributeTable": false,
 "minScale": 0,
 "maxScale": 0,
 "exportTilesAllowed": false,
 "supportsStatistics": false,
 "supportsAdvancedQueries": false,
 "editFieldsInfo": null,
 "ownershipBasedAccessControlForRasters": null,
 "allowComputeTiePoints": false,
 "useStandardizedQueries": true,
 "advancedQueryCapabilities": {
  "useStandardizedQueries": true,
  "supportsStatistics": false,
  "supportsOrderBy": false,
  "supportsDistinct": false,
  "supportsPagination": false
 },
 "spatialReference": {
  "wkid": 3310,
  "latestWkid": 3310
 }
}
